Workbook

Sheet กรอกข้อมูล
C1: กรอกข้อมูล
B3: ส่วนราชการ | C3: องค์การบริหารส่วนตำบลน่าอยู่
B4: คณะกรรมการ | C4: ตรวจรับพัสดุในงานจ้างก่อสร้าง
B5: เบอร์โทรหน่วยงาน | C5: 37427667 | R5: 0 | S5: =LEFT(C5,4) -> 3742 | T5: =RIGHT(C5,4) -> 7667
B6: ชื่อโครงการ | C6: ก่อสร้างถนนคอนกรีตเสริมเหล็ก
B7: ปริมาณงาน | C7: กว้าง 5 ม.ยาว 105 ม. หนา 0.15 ม.
B8: สถานที่ก่อสร้าง | C8: หมู่ที่ 1 บ้านสระหลวง ตำบลไทรเดี่ยว อำเภอคลองหาด จังหวัดสระแก้ว
B9: งบประมาณ | C9: 30000
B10: เลขคำสั่ง | C10: 124/2563
B11: ลงวันที่ | C11: 13 กรกฎาคม 2563
B12: ประกาศค่าตอบแทน | C12: 14 กรกฎาคม 2563
B13: ส่วนราชการ ลงวันที่
B14: ชื่อประธาน | C14: นายธราเทพ ทองเบ้า
B15: ตำแหน่ง | C15: ผู้อำนวยการกองช่าง
B16: ชื่อกรรมการ | C16: นายนิธิพันธ์ ประเสริฐศรี
B17: ตำแหน่ง | C17: นายช่างโยธาชำนาญงาน
B18: ชื่อกรรมการ | C18: นายรังสรรค์ เพ็ชรวิเศษ
B19: ตำแหน่ง | C19: ผู้ช่วยนายช่างโยธา
B21: ปลัด | C21: นายประยูร มณีฉาย
B22: นายก | C22: นายประยูร มณีฉาย
B23: ผู้จ่ายเงิน | C23: นางสาวณิชฐกันต์ ต่อโชติ

Sheet บันทึกค่าตอบแทนประชุมกรรมการ
B2: บันทึกข้อความ
A4: ส่วนราชการ | F4: =กรอกข้อมูล!C3&" คณะกรรมการ"&กรอกข้อมูล!C4&" โทร."&กรอกข้อมูล!R5&"-"&กรอกข้อมูล!S5&"-"&กรอกข้อมูล!T5 -> องค์การบริหารส่วนตำบลน่าอยู่ คณะกรรมการตรวจรับพัสดุในงานจ้างก่อสร้าง โทร.0-3742-7667
A5: ที่ | H5: - | R5: วันที่ | T5: =NOW() -> 44085.902
A6: เรื่อง | C6: ="ขออนุมัติเบิกจ่ายเงินค่าตอบแทนคณะกรรมการ"&กรอกข้อมูล!C4 -> ขออนุมัติเบิกจ่ายเงินค่าตอบแทนคณะกรรมการตรวจรับพัสดุในงานจ้างก่อสร้าง
A8: เรียน | C8: ="นายก"&กรอกข้อมูล!C3 -> นายกองค์การบริหารส่วนตำบลน่าอยู่
F10: ๑.เรื่องเดิม
A11: =" ตามที่"&กรอกข้อมูล!C3&" ดำเนินโครงการ"&กรอกข้อมูล!C6&" ปริมาณงาน "&กรอกข้อมูล!C7&" "&กรอกข้อมูล!C8&" งบประมาณ "&FIXED(กรอกข้อมูล!C9,0)&".- บาท (-"&BAHTTEXT(กรอกข้อมูล!C9)&"-) โดยแต่งตั้งคณะกรรมการ"&กรอกข้อมูล!C4&" ตามคำสั่ง"&กรอกข้อมูล!C3&" ที่ "&กรอกข้อมูล!C10&" ลงวันที่ "&กรอกข้อมูล!C11&" ตามรายนามดังต่อไปนี้" -> ตามที่องค์การบริหารส่วนตำบลน่าอยู่ ดำเนินโครงการก่อสร้างถนนคอนกรีตเสริมเหล็ก ปริมาณงาน กว้าง 5 ม.ยาว 105 ม. หนา 0.15 ม. หมู่ที่ 1 บ้านสระหลวง ตำบลไทรเดี่ยว อำเภอคลองหาด จังหวัดสระแก้ว งบประมาณ 30,000.- บาท (-สามหมื่นบาทถ้วน-) โดยแต่งตั้งคณะกรรมการตรวจรับพัสดุในงานจ้างก่อสร้าง ตามคำสั่งองค์การบริหารส่วนตำบลน่าอยู่ ที่ 124/2563 ลงวันที่ 13 กรกฎาคม 2563 ตามรายนามดังต่อไปนี้
F15: 1 | G15: =กรอกข้อมูล!C14 -> นายธราเทพ ทองเบ้า | R15: ตำแหน่ง | V15: =กรอกข้อมูล!C15 -> ผู้อำนวยการกองช่าง | AF15: เป็น ประธาน
F16: 2 | G16: =กรอกข้อมูล!C16 -> นายนิธิพันธ์ ประเสริฐศรี | R16: ตำแหน่ง | V16: =กรอกข้อมูล!C17 -> นายช่างโยธาชำนาญงาน | AF16: เป็น กรรมการ
F17: 3 | G17: =กรอกข้อมูล!C18 -> นายรังสรรค์ เพ็ชรวิเศษ | R17: ตำแหน่ง | V17: =กรอกข้อมูล!C19 -> ผู้ช่วยนายช่างโยธา | AF17: เป็น กรรมการ
F19: ๒.ข้อเท็จจริง
A20: =" คณะกรรมการ"&กรอกข้อมูล!C4&" ได้ปฏิบัติหน้าที่ตามที่ได้รับมอบหมายแล้ว และมีสิทธิ์ได้รับค่าตอบแทนตามหลักเกณฑ์เบิกจ่ายค่าตอบแทนบุคคลหรือคณะกรรมการ ตามหนังสือกระทรวงการคลัง ด่วนที่สุดที่ กค ๐๕๐๒.๕/ว ๘๕ ลงวันที่ ๖ กันยายน ๒๕๖๑"&" โดยพระราชบัญญัติการจัดซื้อจัดจ้างและการบริหารพัสดุภาครัฐ พ.ศ. ๒๕๖๐ ได้กำหนดให้บุคคลหรือคณะกรรมการผู้รับผิดชอบการจัดซื้อจัดจ้างและการบริหารพัสดุภาครัฐ ได้รับค่าตอบแทน ตามที่กระทรวงการคลังกำหนด " -> คณะกรรมการตรวจรับพัสดุในงานจ้างก่อสร้าง ได้ปฏิบัติหน้าที่ตามที่ได้รับมอบหมายแล้ว และมีสิทธิ์ได้รับค่าตอบแทนตามหลักเกณฑ์เบิกจ่ายค่าตอบแทนบุคคลหรือคณะกรรมการ ตามหนังสือกระทรวงการคลัง ด่วนที่สุดที่ กค ๐๕๐๒.๕/ว ๘๕ ลงวันที่ ๖ กันยายน ๒๕๖๑ โดยพระราชบัญญัติการจัดซื้อจัดจ้างและการบริหารพัสดุภาครัฐ พ.ศ. ๒๕๖๐ ได้กำหนดให้บุคคลหรือคณะกรรมการผู้รับผิดชอบการจัดซื้อจัดจ้างและการบริหารพัสดุภาครัฐ ได้รับค่าตอบแทน ตามที่กระทรวงการคลังกำหนด
F25: ๓.ข้อระเบียบ กฎหมาย
F26: ๓.๑ พระราชบัญญัติการจัดซื้อจัดจ้างและการบริหารพัสดุภาครัฐ พ.ศ. ๒๕๖๐
A27: มาตรา ๖๑ ในการจัดซื้อจัดจ้างพัสดุแต่ละครั้ง ให้ผู้มีอำนาจแต่งตั้งผู้รับผิดชอบการจัดซื้อจัดจ้างนั้นซึ่งกระทำโดยคณะกรรมการจัดซื้อจัดจ้างหรือเจ้าหน้าที่คนใดคนหนึ่ง
A29: องค์ประกอบและองค์ประชุมซึ่งกระทำโดยคณะกรรมการ และหน้าที่ผู้รับผิดชอบการจัดซื้อจัดจ้างตามวรรคหนึ่ง ให้เป็นไปตามระเบียบที่รัฐมนตรีกำหนด
A31: ค่าตอบแทนผู้รับผิดชอบการจัดซื้อจัดจ้างตามวรรคหนึ่ง ให้เป็นไปตามที่กระทรวงการคลังกำหนด
F32: 3.2 ระเบียบกระทรวงการคลังว่าด้วยการจัดซื้อจัดจ้างและการบริหารพัสดุภาครัฐ พ.ศ. ๒๕๖๐
F33: ๓.๓ หนังสือกระทรวงการคลัง ด่วนที่สุด ที่ กค ๐๔๐๒.๕/ว ๘๕ ลงวันที่ ๖ กันยายน ๒๕๖๑ เรื่อง หลักเกณฑ์
A34: การเบิกจ่ายค่าตอบแทนบุคคลหรือคณะกรรมการ
F35: ="๓.๔ ประกาศ"&กรอกข้อมูล!C3&" เรื่องกำหนดหลักเกณฑ์และอัตราการเบิกจ่ายค่าตอบแทน" -> ๓.๔ ประกาศองค์การบริหารส่วนตำบลน่าอยู่ เรื่องกำหนดหลักเกณฑ์และอัตราการเบิกจ่ายค่าตอบแทน
A36: ="บุคคลหรือคณะกรรมการผู้รับผิดชอบการจัดซื้อจัดจ้างและบริหารพัสดุภาครัฐ ลงวันที่ "&กรอกข้อมูล!C12 -> บุคคลหรือคณะกรรมการผู้รับผิดชอบการจัดซื้อจัดจ้างและบริหารพัสดุภาครัฐ ลงวันที่ 14 กรกฎาคม 2563
F38: ๔.ข้อเสนอเพื่อพิจารณา
F39: ขออนุมัติเบิกค่าตอบแทนคณะกรรมการผู้ปฏิบัติงานและมีสิทธิ์ได้รับค่าตอบแทน ดังนี้
F40: 1 | G40: =G15 -> นายธราเทพ ทองเบ้า | R40: =R15 -> ตำแหน่ง | V40: =V15 -> ผู้อำนวยการกองช่าง | AF40: ประธานกรรมการ
A41: จำนวนครั้งที่ประชุม | G41: 1 | I41: ครั้ง ๆ ละ | M41: 1500 | Q41: บาท | S41: เป็นเงิน | V41: =G41*M41 -> 1500 | Z41: บาท
F42: 2 | G42: =G16 -> นายนิธิพันธ์ ประเสริฐศรี | R42: =R16 -> ตำแหน่ง | V42: =V16 -> นายช่างโยธาชำนาญงาน | AF42: กรรมการ
A43: จำนวนครั้งที่ประชุม | G43: 1 | I43: ครั้ง ๆ ละ | M43: 1200 | Q43: บาท | S43: เป็นเงิน | V43: =G43*M43 -> 1200 | Z43: บาท
AK46: ="/ ๓. "&LEFT(G49,3)&"…" -> / ๓. นาย…
A47: -๒-
F49: 3 | G49: =G17 -> นายรังสรรค์ เพ็ชรวิเศษ | R49: =R17 -> ตำแหน่ง | V49: =V17 -> ผู้ช่วยนายช่างโยธา | AF49: กรรมการ
A50: จำนวนครั้งที่ประชุม | G50: 1 | I50: ครั้ง ๆ ละ | M50: 1200 | Q50: บาท | S50: เป็นเงิน | V50: =G50*M50 -> 1200 | Z50: บาท
F51: รวมเป็นเงินทั้งสิ้น | L51: =SUM(V41,V43,V50) -> 3900 | Q51: บาท | S51: ="("&BAHTTEXT(L51)&")" -> (สามพันเก้าร้อยบาทถ้วน)
F53: พร้อมนี้ได้แนบเอกสารประกอบการพิจารณามาด้วยแล้ว ดังนี้
F54: 1 | G54: ="สำเนารายงานการ"&กรอกข้อมูล!C4 -> สำเนารายงานการตรวจรับพัสดุในงานจ้างก่อสร้าง | AA54: จำนวน | AE54: 1 | AG54: ชุด
F55: 2 | G55: สำเนารายงานการประชุม | AA55: จำนวน | AE55: 1 | AG55: ชุด
F56: 3 | G56: สำเนาคำสั่งแต่งตั้งคณะกรรมการฯ | AA56: จำนวน | AE56: 1 | AG56: ชุด
F58: จึงเรียนมาเพื่อโปรดพิจารณาอนุมัติ
L60: (ลงชื่อ) | X60: ประธานกรรมการ
M61: ="("&G15&")" -> (นายธราเทพ ทองเบ้า)
...

Sheet บันทึกออกตรวจงานจ้าง(กรรมการ)
B2: บันทึกข้อความ
A4: ส่วนราชการ | F4: =กรอกข้อมูล!C3&" คณะกรรมการตรวจรับพัสดุในงานจ้างก่อสร้าง โทร."&กรอกข้อมูล!R5&"-"&กรอกข้อมูล!S5&"-"&กรอกข้อมูล!T5 -> องค์การบริหารส่วนตำบลน่าอยู่ คณะกรรมการตรวจรับพัสดุในงานจ้างก่อสร้าง โทร.0-3742-7667
A5: ที่ | H5: - | R5: วันที่ | T5: =NOW() -> 44085.902
A6: เรื่อง | C6: ="ขออนุมัติเบิกจ่ายเงินค่าตอบแทนคณะกรรมการตรวจรับพัสดุในงานจ้างก่อสร้าง กรณีออกตรวจงานจ้าง" -> ขออนุมัติเบิกจ่ายเงินค่าตอบแทนคณะกรรมการตรวจรับพัสดุในงานจ้างก่อสร้าง กรณีออกตรวจงานจ้าง
A8: เรียน | C8: ="นายก"&กรอกข้อมูล!C3 -> นายกองค์การบริหารส่วนตำบลน่าอยู่
F10: ๑.เรื่องเดิม
A11: =" ตามที่"&กรอกข้อมูล!C3&" ดำเนินโครงการ"&กรอกข้อมูล!C6&" ปริมาณงาน "&กรอกข้อมูล!C7&" สถานที่ "&กรอกข้อมูล!C8&" งบประมาณ "&FIXED(กรอกข้อมูล!C9,0)&".- บาท (-"&BAHTTEXT(กรอกข้อมูล!C9)&"-) โดยแต่งตั้งคณะกรรมการตรวจรับพัสดุในงานจ้างก่อสร้าง ตามคำสั่ง"&กรอกข้อมูล!C3&" ที่ "&กรอกข้อมูล!C10&" ลงวันที่ "&กรอกข้อมูล!C11&" ตามรายนามดังต่อไปนี้" -> ตามที่องค์การบริหารส่วนตำบลน่าอยู่ ดำเนินโครงการก่อสร้างถนนคอนกรีตเสริมเหล็ก ปริมาณงาน กว้าง 5 ม.ยาว 105 ม. หนา 0.15 ม. สถานที่ หมู่ที่ 1 บ้านสระหลวง ตำบลไทรเดี่ยว อำเภอคลองหาด จังหวัดสระแก้ว งบประมาณ 30,000.- บาท (-สามหมื่นบาทถ้วน-) โดยแต่งตั้งคณะกรรมการตรวจรับพัสดุในงานจ้างก่อสร้าง ตามคำสั่งองค์การบริหารส่วนตำบลน่าอยู่ ที่ 124/2563 ลงวันที่ 13 กรกฎาคม 2563 ตามรายนามดังต่อไปนี้
F15: 1 | G15: =กรอกข้อมูล!C14 -> นายธราเทพ ทองเบ้า | R15: ตำแหน่ง | V15: =กรอกข้อมูล!C15 -> ผู้อำนวยการกองช่าง | AF15: เป็น ประธาน
F16: 2 | G16: =กรอกข้อมูล!C16 -> นายนิธิพันธ์ ประเสริฐศรี | R16: ตำแหน่ง | V16: =กรอกข้อมูล!C17 -> นายช่างโยธาชำนาญงาน | AF16: เป็น กรรมการ
F17: 3 | G17: =กรอกข้อมูล!C18 -> นายรังสรรค์ เพ็ชรวิเศษ | R17: ตำแหน่ง | V17: =กรอกข้อมูล!C19 -> ผู้ช่วยนายช่างโยธา | AF17: เป็น กรรมการ
F19: ๒.ข้อเท็จจริง
A20: =" คณะกรรมการตรวจรับพัสดุในงานจ้างก่อสร้าง ได้ออกตรวจงานจ้าง ณ สถานที่กำหนดไว้ในสัญญาหรือที่ตกลงให้ทำงานจ้าง "&กรอกข้อมูล!C8&"และมีสิทธิ์ได้รับค่าตอบแทนตามหลักเกณฑ์เบิกจ่ายค่าตอบแทนบุคคลหรือคณะกรรมการ ตามหนังสือกระทรวงการคลัง ด่วนที่สุดที่ กค ๐๕๐๒.๕/ว ๘๕ ลงวันที่ ๖ กันยายน ๒๕๖๑"&" โดยพระราชบัญญัติการจัดซื้อจัดจ้างและการบริหารพัสดุภาครัฐ พ.ศ. ๒๕๖๐ ได้กำหนดให้บุคคลหรือคณะกรรมการผู้รับผิดชอบการจัดซื้อจัดจ้างและการบริหารพัสดุภาครัฐ ได้รับค่าตอบแทน ตามที่กระทรวงการคลังกำหนด " -> คณะกรรมการตรวจรับพัสดุในงานจ้างก่อสร้าง ได้ออกตรวจงานจ้าง ณ สถานที่กำหนดไว้ในสัญญาหรือที่ตกลงให้ทำงานจ้าง หมู่ที่ 1 บ้านสระหลวง ตำบลไทรเดี่ยว อำเภอคลองหาด จังหวัดสระแก้วและมีสิทธิ์ได้รับค่าตอบแทนตามหลักเกณฑ์เบิกจ่ายค่าตอบแทนบุคคลหรือคณะกรรมการ ตามหนังสือกระทรวงการคลัง ด่วนที่สุดที่ กค ๐๕๐๒.๕/ว ๘๕ ลงวันที่ ๖ กันยายน ๒๕๖๑ โดยพระราชบัญญัติการจัดซื้อจัดจ้างและการบริหารพัสดุภาครัฐ พ.ศ. ๒๕๖๐ ได้กำหนดให้บุคคลหรือคณะกรรมการผู้รับผิดชอบการจัดซื้อจัดจ้างและการบริหารพัสดุภาครัฐ ได้รับค่าตอบแทน ตามที่กระทรวงการคลังกำหนด
F25: ๓.ข้อระเบียบ กฎหมาย
F26: ๓.๑ พระราชบัญญัติการจัดซื้อจัดจ้างและการบริหารพัสดุภาครัฐ พ.ศ. ๒๕๖๐
A27: มาตรา ๖๑ ในการจัดซื้อจัดจ้างพัสดุแต่ละครั้ง ให้ผู้มีอำนาจแต่งตั้งผู้รับผิดชอบการจัดซื้อจัดจ้างนั้นซึ่งกระทำโดยคณะกรรมการจัดซื้อจัดจ้างหรือเจ้าหน้าที่คนใดคนหนึ่ง
A29: องค์ประกอบและองค์ประชุมซึ่งกระทำโดยคณะกรรมการ และหน้าที่ผู้รับผิดชอบการจัดซื้อจัดจ้างตามวรรคหนึ่ง ให้เป็นไปตามระเบียบที่รัฐมนตรีกำหนด
A31: ค่าตอบแทนผู้รับผิดชอบการจัดซื้อจัดจ้างตามวรรคหนึ่ง ให้เป็นไปตามที่กระทรวงการคลังกำหนด
F32: 3.2 ระเบียบกระทรวงการคลังว่าด้วยการจัดซื้อจัดจ้างและการบริหารพัสดุภาครัฐ พ.ศ. ๒๕๖๐
F33: ๓.๓ หนังสือกระทรวงการคลัง ด่วนที่สุด ที่ กค ๐๔๐๒.๕/ว ๘๕ ลงวันที่ ๖ กันยายน ๒๕๖๑ เรื่อง หลักเกณฑ์
A34: การเบิกจ่ายค่าตอบแทนบุคคลหรือคณะกรรมการ
F35: ="๓.๔ ประกาศ"&กรอกข้อมูล!C3&" เรื่องกำหนดหลักเกณฑ์และอัตราการเบิกจ่ายค่าตอบแทน" -> ๓.๔ ประกาศองค์การบริหารส่วนตำบลน่าอยู่ เรื่องกำหนดหลักเกณฑ์และอัตราการเบิกจ่ายค่าตอบแทน
A36: =บันทึกค่าตอบแทนประชุมกรรมการ!A36 -> บุคคลหรือคณะกรรมการผู้รับผิดชอบการจัดซื้อจัดจ้างและบริหารพัสดุภาครัฐ ลงวันที่ 14 กรกฎาคม 2563
F38: ๔.ข้อเสนอเพื่อพิจารณา
F39: ขออนุมัติเบิกค่าตอบแทนคณะกรรมการผู้ปฏิบัติงานและมีสิทธิ์ได้รับค่าตอบแทน ดังนี้
F40: 1 | G40: =G15 -> นายธราเทพ ทองเบ้า | R40: =R15 -> ตำแหน่ง | V40: =V15 -> ผู้อำนวยการกองช่าง | AF40: ประธานกรรมการ
A41: จำนวนครั้งที่ออกตรวจงานจ้าง | K41: 1 | M41: ครั้ง ๆ ละ | Q41: 1500 | U41: บาท | W41: เป็นเงิน | Z41: =K41*Q41 -> 1500 | AD41: บาท
F42: 2 | G42: =G16 -> นายนิธิพันธ์ ประเสริฐศรี | R42: =R16 -> ตำแหน่ง | V42: =V16 -> นายช่างโยธาชำนาญงาน | AF42: กรรมการ
A43: จำนวนครั้งที่ออกตรวจงานจ้าง | K43: 1 | M43: ครั้ง ๆ ละ | Q43: 1200 | U43: บาท | W43: เป็นเงิน | Z43: =K43*Q43 -> 1200 | AD43: บาท
AK46: ="/ ๓. "&LEFT(G49,3)&"…" -> / ๓. นาย…
A47: -๒-
F49: 3 | G49: =G17 -> นายรังสรรค์ เพ็ชรวิเศษ | R49: =R17 -> ตำแหน่ง | V49: =V17 -> ผู้ช่วยนายช่างโยธา | AF49: กรรมการ
A50: จำนวนครั้งที่ออกตรวจงานจ้าง | K50: 1 | M50: ครั้ง ๆ ละ | Q50: 1200 | U50: บาท | W50: เป็นเงิน | Z50: =K50*Q50 -> 1200 | AD50: บาท
F51: รวมเป็นเงินทั้งสิ้น | L51: =SUM(Z41,Z43,Z50) -> 3900 | Q51: บาท | S51: ="("&BAHTTEXT(L51)&")" -> (สามพันเก้าร้อยบาทถ้วน)
F53: พร้อมนี้ได้แนบเอกสารประกอบการพิจารณามาด้วยแล้ว ดังนี้
F54: 1 | G54: สำเนาบันทึกผลการออกตรวจงานจ้าง | AA54: จำนวน | AD54: 1 | AG54: ชุด
F55: 2 | G55: สำเนาคำสั่งแต่งตั้งคณะกรรมการฯ | AA55: จำนวน | AD55: 1 | AG55: ชุด
F57: จึงเรียนมาเพื่อโปรดพิจารณาอนุมัติ
L59: (ลงชื่อ) | X59: ประธานกรรมการ
M60: ="("&G15&")" -> (นายธราเทพ ทองเบ้า)
L62: (ลงชื่อ) | X62: กรรมการ
...

Sheet บันทึกออกตรวจงานจ้าง(บุคคล)
B2: บันทึกข้อความ
A4: ส่วนราชการ | F4: =กรอกข้อมูล!C3&" คณะกรรมการตรวจรับพัสดุในงานจ้างก่อสร้าง โทร."&กรอกข้อมูล!R5&"-"&กรอกข้อมูล!S5&"-"&กรอกข้อมูล!T5 -> องค์การบริหารส่วนตำบลน่าอยู่ คณะกรรมการตรวจรับพัสดุในงานจ้างก่อสร้าง โทร.0-3742-7667
A5: ที่ | H5: - | R5: วันที่ | T5: =NOW() -> 44085.902
A6: เรื่อง | C6: ="ขออนุมัติเบิกจ่ายเงินค่าตอบแทนคณะกรรมการตรวจรับพัสดุในงานจ้างก่อสร้าง กรณีออกตรวจงานจ้าง" -> ขออนุมัติเบิกจ่ายเงินค่าตอบแทนคณะกรรมการตรวจรับพัสดุในงานจ้างก่อสร้าง กรณีออกตรวจงานจ้าง
A8: เรียน | C8: ="นายก"&กรอกข้อมูล!C3 -> นายกองค์การบริหารส่วนตำบลน่าอยู่
F10: ๑.เรื่องเดิม
A11: =" ตามที่"&กรอกข้อมูล!C3&" ดำเนินโครงการ"&กรอกข้อมูล!C6&" ปริมาณงาน "&กรอกข้อมูล!C7&" สถานที่ "&กรอกข้อมูล!C8&" งบประมาณ "&FIXED(กรอกข้อมูล!C9,0)&".- บาท (-"&BAHTTEXT(กรอกข้อมูล!C9)&"-) โดยแต่งตั้งคณะกรรมการตรวจรับพัสดุในงานจ้างก่อสร้าง ตามคำสั่ง"&กรอกข้อมูล!C3&" ที่ "&กรอกข้อมูล!C10&" ลงวันที่ "&กรอกข้อมูล!C11&" ตามรายนามดังต่อไปนี้" -> ตามที่องค์การบริหารส่วนตำบลน่าอยู่ ดำเนินโครงการก่อสร้างถนนคอนกรีตเสริมเหล็ก ปริมาณงาน กว้าง 5 ม.ยาว 105 ม. หนา 0.15 ม. สถานที่ หมู่ที่ 1 บ้านสระหลวง ตำบลไทรเดี่ยว อำเภอคลองหาด จังหวัดสระแก้ว งบประมาณ 30,000.- บาท (-สามหมื่นบาทถ้วน-) โดยแต่งตั้งคณะกรรมการตรวจรับพัสดุในงานจ้างก่อสร้าง ตามคำสั่งองค์การบริหารส่วนตำบลน่าอยู่ ที่ 124/2563 ลงวันที่ 13 กรกฎาคม 2563 ตามรายนามดังต่อไปนี้
F15: 1 | G15: =กรอกข้อมูล!C14 -> นายธราเทพ ทองเบ้า | R15: ตำแหน่ง | V15: =กรอกข้อมูล!C15 -> ผู้อำนวยการกองช่าง | AF15: เป็น ประธาน
F16: 2 | G16: =กรอกข้อมูล!C16 -> นายนิธิพันธ์ ประเสริฐศรี | R16: ตำแหน่ง | V16: =กรอกข้อมูล!C17 -> นายช่างโยธาชำนาญงาน | AF16: เป็น กรรมการ
F17: 3 | G17: =กรอกข้อมูล!C18 -> นายรังสรรค์ เพ็ชรวิเศษ | R17: ตำแหน่ง | V17: =กรอกข้อมูล!C19 -> ผู้ช่วยนายช่างโยธา | AF17: เป็น กรรมการ
F19: ๒.ข้อเท็จจริง
A20: =" ข้าพเจ้า ได้ออกตรวจงานจ้าง ณ สถานที่กำหนดไว้ในสัญญาหรือที่ตกลงให้ทำงานจ้าง "&กรอกข้อมูล!C8&"และมีสิทธิ์ได้รับค่าตอบแทนตามหลักเกณฑ์เบิกจ่ายค่าตอบแทนบุคคลหรือคณะกรรมการ ตามหนังสือกระทรวงการคลัง ด่วนที่สุดที่ กค ๐๕๐๒.๕/ว ๘๕ ลงวันที่ ๖ กันยายน ๒๕๖๑"&" โดยพระราชบัญญัติการจัดซื้อจัดจ้างและการบริหารพัสดุภาครัฐ พ.ศ. ๒๕๖๐ ได้กำหนดให้บุคคลหรือคณะกรรมการผู้รับผิดชอบการจัดซื้อจัดจ้างและการบริหารพัสดุภาครัฐ ได้รับค่าตอบแทน ตามที่กระทรวงการคลังกำหนด " -> ข้าพเจ้า ได้ออกตรวจงานจ้าง ณ สถานที่กำหนดไว้ในสัญญาหรือที่ตกลงให้ทำงานจ้าง หมู่ที่ 1 บ้านสระหลวง ตำบลไทรเดี่ยว อำเภอคลองหาด จังหวัดสระแก้วและมีสิทธิ์ได้รับค่าตอบแทนตามหลักเกณฑ์เบิกจ่ายค่าตอบแทนบุคคลหรือคณะกรรมการ ตามหนังสือกระทรวงการคลัง ด่วนที่สุดที่ กค ๐๕๐๒.๕/ว ๘๕ ลงวันที่ ๖ กันยายน ๒๕๖๑ โดยพระราชบัญญัติการจัดซื้อจัดจ้างและการบริหารพัสดุภาครัฐ พ.ศ. ๒๕๖๐ ได้กำหนดให้บุคคลหรือคณะกรรมการผู้รับผิดชอบการจัดซื้อจัดจ้างและการบริหารพัสดุภาครัฐ ได้รับค่าตอบแทน ตามที่กระทรวงการคลังกำหนด
F25: ๓.ข้อระเบียบ กฎหมาย
F26: ๓.๑ พระราชบัญญัติการจัดซื้อจัดจ้างและการบริหารพัสดุภาครัฐ พ.ศ. ๒๕๖๐
A27: มาตรา ๖๑ ในการจัดซื้อจัดจ้างพัสดุแต่ละครั้ง ให้ผู้มีอำนาจแต่งตั้งผู้รับผิดชอบการจัดซื้อจัดจ้างนั้นซึ่งกระทำโดยคณะกรรมการจัดซื้อจัดจ้างหรือเจ้าหน้าที่คนใดคนหนึ่ง
A29: องค์ประกอบและองค์ประชุมซึ่งกระทำโดยคณะกรรมการ และหน้าที่ผู้รับผิดชอบการจัดซื้อจัดจ้างตามวรรคหนึ่ง ให้เป็นไปตามระเบียบที่รัฐมนตรีกำหนด
A31: ค่าตอบแทนผู้รับผิดชอบการจัดซื้อจัดจ้างตามวรรคหนึ่ง ให้เป็นไปตามที่กระทรวงการคลังกำหนด
F32: 3.2 ระเบียบกระทรวงการคลังว่าด้วยการจัดซื้อจัดจ้างและการบริหารพัสดุภาครัฐ พ.ศ. ๒๕๖๐
F33: ๓.๓ หนังสือกระทรวงการคลัง ด่วนที่สุด ที่ กค ๐๔๐๒.๕/ว ๘๕ ลงวันที่ ๖ กันยายน ๒๕๖๑ เรื่อง หลักเกณฑ์
A34: การเบิกจ่ายค่าตอบแทนบุคคลหรือคณะกรรมการ
F35: ="๓.๔ ประกาศ"&กรอกข้อมูล!C3&" เรื่องกำหนดหลักเกณฑ์และอัตราการเบิกจ่ายค่าตอบแทน" -> ๓.๔ ประกาศองค์การบริหารส่วนตำบลน่าอยู่ เรื่องกำหนดหลักเกณฑ์และอัตราการเบิกจ่ายค่าตอบแทน
A36: ='บันทึกออกตรวจงานจ้าง(กรรมการ)'!A36 -> บุคคลหรือคณะกรรมการผู้รับผิดชอบการจัดซื้อจัดจ้างและบริหารพัสดุภาครัฐ ลงวันที่ 14 กรกฎาคม 2563
F38: ๔.ข้อเสนอเพื่อพิจารณา
F39: ขออนุมัติเบิกค่าตอบแทนคณะกรรมการผู้ปฏิบัติงานและมีสิทธิ์ได้รับค่าตอบแทน ดังนี้
A40: จำนวนครั้งที่ออกตรวจงานจ้าง | K40: 1 | M40: ครั้ง ๆ ละ | Q40: 1500 | U40: บาท | W40: เป็นเงิน | Z40: =K40*Q40 -> 1500 | AD40: บาท
F41: รวมเป็นเงินทั้งสิ้น | L41: =Z40 -> 1500 | Q41: บาท | S41: ="("&BAHTTEXT(L41)&")" -> (หนึ่งพันห้าร้อยบาทถ้วน)
F43: พร้อมนี้ได้แนบเอกสารประกอบการพิจารณามาด้วยแล้ว ดังนี้
F44: 1 | G44: สำเนาบันทึกผลการออกตรวจงานจ้าง | AA44: จำนวน | AD44: 1 | AG44: ชุด
F45: 2 | G45: สำเนาคำสั่งแต่งตั้งคณะกรรมการฯ | AA45: จำนวน | AD45: 1 | AG45: ชุด
AK46: /พร้อมนี้...
A47: -๒-
F49: จึงเรียนมาเพื่อโปรดพิจารณาอนุมัติ
L51: (ลงชื่อ) | X51: ประธานกรรมการตรวจรับพัสดุ
M52: ="("&G15&")" -> (นายธราเทพ ทองเบ้า)
B54: เรียน | D54: =C8 -> นายกองค์การบริหารส่วนตำบลน่าอยู่
D55: - เพื่อโปรดพิจารณา
D56: [ ] เห็นควรอนุมัติ
D57: [ ] ไม่ควรอนุมัติ เนื่องจาก..........................................................................................................
E60: ="("&กรอกข้อมูล!C21&")" -> (นายประยูร มณีฉาย)
E61: ="ปลัด"&กรอกข้อมูล!C3 -> ปลัดองค์การบริหารส่วนตำบลน่าอยู่
...

Sheet หลักฐานการจ่ายค่าตอบแทน
A1: ="หลักฐานการจ่ายค่าตอบแทนกรรมการในคณะกรรมการ"&กรอกข้อมูล!C4 -> หลักฐานการจ่ายค่าตอบแทนกรรมการในคณะกรรมการตรวจรับพัสดุในงานจ้างก่อสร้าง
A2: ="ส่วนราชการ "&กรอกข้อมูล!C3 -> ส่วนราชการ องค์การบริหารส่วนตำบลน่าอยู่
A3: ="การประชุมเรื่อง "&กรอกข้อมูล!C4&" โครงการ"&กรอกข้อมูล!C6 -> การประชุมเรื่อง ตรวจรับพัสดุในงานจ้างก่อสร้าง โครงการก่อสร้างถนนคอนกรีตเสริมเหล็ก
A4: =กรอกข้อมูล!C8 -> หมู่ที่ 1 บ้านสระหลวง ตำบลไทรเดี่ยว อำเภอคลองหาด จังหวัดสระแก้ว
A5: ครั้งที่ ๑
A6: วันที่ ๑๔ กุมภาพันธ์ ๒๕๖๑
A7: ="ณ ห้องประชุม"&กรอกข้อมูล!C3 -> ณ ห้องประชุมองค์การบริหารส่วนตำบลน่าอยู่
A8: ลำดับ | B8: ชื่อ – สกุล | C8: ตำแหน่ง | D8: ผู้แทนหน่วยงาน | E8: อัตราค่าตอบแทน | F8: ลายมือชื่อ
C9: (ประธานกรรมการ/กรรมการ) | F9: ผู้เข้าร่วมประชุม | G9: ผู้รับเงิน
A10: 1 | B10: =บันทึกค่าตอบแทนประชุมกรรมการ!G15 -> นายธราเทพ ทองเบ้า | C10: ประธานกรรมการ | E10: =บันทึกค่าตอบแทนประชุมกรรมการ!V41 -> 1500
A11: 2 | B11: =บันทึกค่าตอบแทนประชุมกรรมการ!G16 -> นายนิธิพันธ์ ประเสริฐศรี | C11: กรรมการ | E11: =บันทึกค่าตอบแทนประชุมกรรมการ!V43 -> 1200
A12: 3 | B12: =บันทึกค่าตอบแทนประชุมกรรมการ!G17 -> นายรังสรรค์ เพ็ชรวิเศษ | C12: กรรมการ | E12: =บันทึกค่าตอบแทนประชุมกรรมการ!V50 -> 1200
D13: ="จำนวนเงิน(ตัวอักษร) (-"&BAHTTEXT(E13)&"-)" -> จำนวนเงิน(ตัวอักษร) (-สามพันเก้าร้อยบาทถ้วน-) | E13: =SUM(E10:E12) -> 3900

Sheet ใบสำคัญรับเงิน1
J1: ="ที่ "&กรอกข้อมูล!C3 -> ที่ องค์การบริหารส่วนตำบลน่าอยู่
A2: ใบสำคัญรับเงิน
F3: วันที่….................................................
B4: ข้าพเจ้า | C4: =กรอกข้อมูล!C14 -> นายธราเทพ ทองเบ้า | F4: อยู่บ้านเลขที่ | H4: 171 | I4: หมู่ที่ | J4: 3
A5: ตำบล | B5: ไทรเดี่ยว | D5: อำเภอ | E5: คลองหาด | G5: จังหวัด | H5: สระแก้ว
A6: ="ได้รับเงินจาก"&กรอกข้อมูล!C3&" ดังรายการดังต่อไปนี้" -> ได้รับเงินจากองค์การบริหารส่วนตำบลน่าอยู่ ดังรายการดังต่อไปนี้
A7: รายการ | I7: จำนวนเงิน
I8: บาท | J8: สต.
A9: ="ค่าตอบแทนคณะกรรมการ"&กรอกข้อมูล!C4 -> ค่าตอบแทนคณะกรรมการตรวจรับพัสดุในงานจ้างก่อสร้าง | I9: =บันทึกค่าตอบแทนประชุมกรรมการ!V41 -> 1500
A10: ="ตามคำสั่ง"&กรอกข้อมูล!C3&" ที่ "&กรอกข้อมูล!C10 -> ตามคำสั่งองค์การบริหารส่วนตำบลน่าอยู่ ที่ 124/2563
A11: ="ลงวันที่ "&กรอกข้อมูล!C11 -> ลงวันที่ 13 กรกฎาคม 2563
H28: รวม(บาท) | I28: =SUM(I9:I27) -> 1500
B29: ="จำนวนเงิน (-"&BAHTTEXT(I28)&"-)" -> จำนวนเงิน (-หนึ่งพันห้าร้อยบาทถ้วน-)
C32: (ลงชื่อ) | H32: ผู้รับเงิน
D33: ="("&C4&")" -> (นายธราเทพ ทองเบ้า)
C35: (ลงชื่อ) | H35: ผู้จ่ายเงิน
D36: ="("&กรอกข้อมูล!C23&")" -> (นางสาวณิชฐกันต์ ต่อโชติ)

Sheet ใบสำคัญรับเงิน2
J1: ="ที่ "&กรอกข้อมูล!C3 -> ที่ องค์การบริหารส่วนตำบลน่าอยู่
A2: ใบสำคัญรับเงิน
F3: วันที่….................................................
B4: ข้าพเจ้า | C4: =กรอกข้อมูล!C16 -> นายนิธิพันธ์ ประเสริฐศรี | F4: อยู่บ้านเลขที่ | H4: 171 | I4: หมู่ที่ | J4: 3
A5: ตำบล | B5: ไทรเดี่ยว | D5: อำเภอ | E5: คลองหาด | G5: จังหวัด | H5: สระแก้ว
A6: ="ได้รับเงินจาก"&กรอกข้อมูล!C3&" ดังรายการดังต่อไปนี้" -> ได้รับเงินจากองค์การบริหารส่วนตำบลน่าอยู่ ดังรายการดังต่อไปนี้
A7: รายการ | I7: จำนวนเงิน
I8: บาท | J8: สต.
A9: ="ค่าตอบแทนคณะกรรมการ"&กรอกข้อมูล!C4 -> ค่าตอบแทนคณะกรรมการตรวจรับพัสดุในงานจ้างก่อสร้าง | I9: =บันทึกค่าตอบแทนประชุมกรรมการ!V43 -> 1200
A10: =ใบสำคัญรับเงิน1!A10 -> ตามคำสั่งองค์การบริหารส่วนตำบลน่าอยู่ ที่ 124/2563
A11: =ใบสำคัญรับเงิน1!A11 -> ลงวันที่ 13 กรกฎาคม 2563
H28: รวม(บาท) | I28: =SUM(I9:I27) -> 1200
B29: ="จำนวนเงิน (-"&BAHTTEXT(I28)&"-)" -> จำนวนเงิน (-หนึ่งพันสองร้อยบาทถ้วน-)
C32: (ลงชื่อ) | H32: ผู้รับเงิน
D33: ="("&C4&")" -> (นายนิธิพันธ์ ประเสริฐศรี)
C35: (ลงชื่อ) | H35: ผู้จ่ายเงิน
D36: ="("&กรอกข้อมูล!C23&")" -> (นางสาวณิชฐกันต์ ต่อโชติ)

Sheet ใบสำคัญรับเงิน3
J1: ="ที่ "&กรอกข้อมูล!C3 -> ที่ องค์การบริหารส่วนตำบลน่าอยู่
A2: ใบสำคัญรับเงิน
F3: วันที่….................................................
B4: ข้าพเจ้า | C4: =กรอกข้อมูล!C18 -> นายรังสรรค์ เพ็ชรวิเศษ | F4: อยู่บ้านเลขที่ | H4: 171 | I4: หมู่ที่ | J4: 3
A5: ตำบล | B5: ไทรเดี่ยว | D5: อำเภอ | E5: คลองหาด | G5: จังหวัด | H5: สระแก้ว
A6: ="ได้รับเงินจาก"&กรอกข้อมูล!C3&" ดังรายการดังต่อไปนี้" -> ได้รับเงินจากองค์การบริหารส่วนตำบลน่าอยู่ ดังรายการดังต่อไปนี้
A7: รายการ | I7: จำนวนเงิน
I8: บาท | J8: สต.
A9: ="ค่าตอบแทนคณะกรรมการ"&กรอกข้อมูล!C4 -> ค่าตอบแทนคณะกรรมการตรวจรับพัสดุในงานจ้างก่อสร้าง | I9: =บันทึกค่าตอบแทนประชุมกรรมการ!V50 -> 1200
A10: =ใบสำคัญรับเงิน2!A10 -> ตามคำสั่งองค์การบริหารส่วนตำบลน่าอยู่ ที่ 124/2563
A11: =ใบสำคัญรับเงิน2!A11 -> ลงวันที่ 13 กรกฎาคม 2563
H28: รวม(บาท) | I28: =SUM(I9:I27) -> 1200
B29: ="จำนวนเงิน (-"&BAHTTEXT(I28)&"-)" -> จำนวนเงิน (-หนึ่งพันสองร้อยบาทถ้วน-)
C32: (ลงชื่อ) | H32: ผู้รับเงิน
D33: ="("&C4&")" -> (นายรังสรรค์ เพ็ชรวิเศษ)
C35: (ลงชื่อ) | H35: ผู้จ่ายเงิน
D36: ="("&กรอกข้อมูล!C23&")" -> (นางสาวณิชฐกันต์ ต่อโชติ)
