Workbook

Sheet กรอกข้อมูล
C1: กรอกข้อมูล
B3: ส่วนราชการ | C3: องค์การบริหารส่วนตำบลยิ้มแย้ม
B4: เบอร์โทรหน่วยงาน | C4: 37427667 | R4: 0 | S4: =LEFT(C4,4) -> 3742 | T4: =RIGHT(C4,4) -> 7667
B5: ชื่อโครงการ | C5: ก่อสร้างถนนคอนกรีตเสริมเหล็ก
B6: ปริมาณงาน | C6: กว้าง 5 ม.ยาว 105 ม. หนา 0.15 ม.
B7: สถานที่ก่อสร้าง | C7: หมู่ 1 บ้านสระหลวง ตำบลไทรเดี่ยว อำเภอคลองหาด จังหวัดสระแก้ว
B8: งบประมาณ | C8: 30000
B9: เลขคำสั่ง | C9: 124/2563
B10: ลงวันที่ | C10: 13 กรกฎาคม 2563
B11: ประกาศค่าตอบแทน | C11: 14 กรกฎาคม 2563
B12: ส่วนราชการ ลงวันที่
B13: หัวหน้าผู้ควบคุมงาน | C13: นายธราเทพ ทองเบ้า
B14: ตำแหน่ง | C14: ผู้อำนวยการกองช่าง
B15: ผู้ควบคุมงาน | C15: นายนิธิพันธ์ ประเสริฐศรี
B16: ตำแหน่ง | C16: นายช่างโยธาชำนาญงาน
B18: ปลัด | C18: นายประยูร มณีฉาย
B19: นายก | C19: นายประยูร มณีฉาย
B20: ผู้จ่ายเงิน | C20: นางสาวณิชฐกันต์ ต่อโชติ

Sheet บันทึก หน+ผคง
B2: บันทึกข้อความ
A4: ส่วนราชการ | F4: =กรอกข้อมูล!C3&" ผู้ควบคุมงาน โทร."&กรอกข้อมูล!R4&"-"&กรอกข้อมูล!S4&"-"&กรอกข้อมูล!T4 -> องค์การบริหารส่วนตำบลยิ้มแย้ม ผู้ควบคุมงาน โทร.0-3742-7667
A5: ที่ | H5: - | R5: วันที่ | T5: =NOW() -> 44085.902
A6: เรื่อง | C6: ="ขออนุมัติเบิกจ่ายเงินค่าตอบแทนผู้ควบคุมงาน" -> ขออนุมัติเบิกจ่ายเงินค่าตอบแทนผู้ควบคุมงาน
A8: เรียน | C8: ="นายก"&กรอกข้อมูล!C3 -> นายกองค์การบริหารส่วนตำบลยิ้มแย้ม
F10: ๑.เรื่องเดิม
A11: =" ตามที่"&กรอกข้อมูล!C3&" ดำเนินโครงการ"&กรอกข้อมูล!C5&" ปริมาณงาน "&กรอกข้อมูล!C6&" "&กรอกข้อมูล!C7&" งบประมาณ "&FIXED(กรอกข้อมูล!C8,0)&".- บาท (-"&BAHTTEXT(กรอกข้อมูล!C8)&"-) โดยแต่งตั้งผู้ควบคุมงาน ตามคำสั่ง"&กรอกข้อมูล!C3&" ที่ "&กรอกข้อมูล!C9&" ลงวันที่ "&กรอกข้อมูล!C10&" ตามรายนามดังต่อไปนี้" -> ตามที่องค์การบริหารส่วนตำบลยิ้มแย้ม ดำเนินโครงการก่อสร้างถนนคอนกรีตเสริมเหล็ก ปริมาณงาน กว้าง 5 ม.ยาว 105 ม. หนา 0.15 ม. หมู่ 1 บ้านสระหลวง ตำบลไทรเดี่ยว อำเภอคลองหาด จังหวัดสระแก้ว งบประมาณ 30,000.- บาท (-สามหมื่นบาทถ้วน-) โดยแต่งตั้งผู้ควบคุมงาน ตามคำสั่งองค์การบริหารส่วนตำบลยิ้มแย้ม ที่ 124/2563 ลงวันที่ 13 กรกฎาคม 2563 ตามรายนามดังต่อไปนี้
F15: 1 | G15: =กรอกข้อมูล!C13 -> นายธราเทพ ทองเบ้า | Q15: ตำแหน่ง | T15: =กรอกข้อมูล!C14 -> ผู้อำนวยการกองช่าง | AC15: เป็น หัวหน้าผู้ควบคุมงาน
F16: 2 | G16: =กรอกข้อมูล!C15 -> นายนิธิพันธ์ ประเสริฐศรี | Q16: ตำแหน่ง | T16: =กรอกข้อมูล!C16 -> นายช่างโยธาชำนาญงาน | AC16: เป็น ผู้ควบคุมงาน
F18: ๒.ข้อเท็จจริง
A19: =" ผู้ควบคุมงาน ได้ปฏิบัติหน้าที่ตามที่ได้รับมอบหมายแล้ว และมีสิทธิ์ได้รับค่าตอบแทนตามหลักเกณฑ์เบิกจ่ายค่าตอบแทนบุคคลหรือคณะกรรมการ ตามหนังสือกระทรวงการคลัง ด่วนที่สุดที่ กค ๐๕๐๒.๕/ว ๘๕ ลงวันที่ ๖ กันยายน ๒๕๖๑"&" โดยพระราชบัญญัติการจัดซื้อจัดจ้างและการบริหารพัสดุภาครัฐ พ.ศ. ๒๕๖๐ ได้กำหนดให้บุคคลหรือคณะกรรมการผู้รับผิดชอบการจัดซื้อจัดจ้างและการบริหารพัสดุภาครัฐ ได้รับค่าตอบแทน ตามที่กระทรวงการคลังกำหนด " -> ผู้ควบคุมงาน ได้ปฏิบัติหน้าที่ตามที่ได้รับมอบหมายแล้ว และมีสิทธิ์ได้รับค่าตอบแทนตามหลักเกณฑ์เบิกจ่ายค่าตอบแทนบุคคลหรือคณะกรรมการ ตามหนังสือกระทรวงการคลัง ด่วนที่สุดที่ กค ๐๕๐๒.๕/ว ๘๕ ลงวันที่ ๖ กันยายน ๒๕๖๑ โดยพระราชบัญญัติการจัดซื้อจัดจ้างและการบริหารพัสดุภาครัฐ พ.ศ. ๒๕๖๐ ได้กำหนดให้บุคคลหรือคณะกรรมการผู้รับผิดชอบการจัดซื้อจัดจ้างและการบริหารพัสดุภาครัฐ ได้รับค่าตอบแทน ตามที่กระทรวงการคลังกำหนด
F23: ๓.ข้อระเบียบ กฎหมาย
F24: ๓.๑ พระราชบัญญัติการจัดซื้อจัดจ้างและการบริหารพัสดุภาครัฐ พ.ศ. ๒๕๖๐
A25: มาตรา ๖๑ ในการจัดซื้อจัดจ้างพัสดุแต่ละครั้ง ให้ผู้มีอำนาจแต่งตั้งผู้รับผิดชอบการจัดซื้อจัดจ้างนั้นซึ่งกระทำโดยคณะกรรมการจัดซื้อจัดจ้างหรือเจ้าหน้าที่คนใดคนหนึ่ง
A27: องค์ประกอบและองค์ประชุมซึ่งกระทำโดยคณะกรรมการ และหน้าที่ผู้รับผิดชอบการจัดซื้อจัดจ้างตามวรรคหนึ่ง ให้เป็นไปตามระเบียบที่รัฐมนตรีกำหนด
A29: ค่าตอบแทนผู้รับผิดชอบการจัดซื้อจัดจ้างตามวรรคหนึ่ง ให้เป็นไปตามที่กระทรวงการคลังกำหนด
F30: 3.2 ระเบียบกระทรวงการคลังว่าด้วยการจัดซื้อจัดจ้างและการบริหารพัสดุภาครัฐ พ.ศ. ๒๕๖๐
F31: ๓.๓ หนังสือกระทรวงการคลัง ด่วนที่สุด ที่ กค ๐๔๐๒.๕/ว ๘๕ ลงวันที่ ๖ กันยายน ๒๕๖๑ เรื่อง หลักเกณฑ์
A32: การเบิกจ่ายค่าตอบแทนบุคคลหรือคณะกรรมการ
F33: ="๓.๔ ประกาศ"&กรอกข้อมูล!C3&" เรื่องกำหนดหลักเกณฑ์และอัตราการเบิกจ่ายค่าตอบแทน" -> ๓.๔ ประกาศองค์การบริหารส่วนตำบลยิ้มแย้ม เรื่องกำหนดหลักเกณฑ์และอัตราการเบิกจ่ายค่าตอบแทน
A34: บุคคลหรือคณะกรรมการผู้รับผิดชอบการจัดซื้อจัดจ้างและบริหารพัสดุภาครัฐ ลงวันที่ ๑๔ กันยายน ๒๕๖๒
F36: ๔.ข้อเสนอเพื่อพิจารณา
F37: ขออนุมัติเบิกค่าตอบแทนผู้ควบคุมงาน ที่มีสิทธิ์ได้รับค่าตอบแทน ดังนี้
F38: 1 | G38: =G15 -> นายธราเทพ ทองเบ้า | R38: =Q15 -> ตำแหน่ง | U38: =T15 -> ผู้อำนวยการกองช่าง | AD38: หัวหน้าผู้ควบคุมงาน
A39: จำนวนวันที่ปฏิบัติงาน | I39: 10 | K39: วัน ๆ ละ | O39: 350 | S39: บาท | U39: เป็นเงิน | X39: =I39*O39 -> 3500 | AB39: บาท
F40: 2 | G40: =G16 -> นายนิธิพันธ์ ประเสริฐศรี | R40: =Q16 -> ตำแหน่ง | V40: =T16 -> นายช่างโยธาชำนาญงาน | AD40: ผู้ควบคุมงาน
A41: จำนวนวันที่ปฏิบัติงาน | I41: 10 | K41: วัน ๆ ละ | O41: 300 | S41: บาท | U41: เป็นเงิน | X41: =I41*O41 -> 3000 | AB41: บาท
F42: รวมเป็นเงินทั้งสิ้น | L42: =SUM(X39,X41) -> 6500 | Q42: บาท | S42: ="("&BAHTTEXT(L42)&")" -> (หกพันห้าร้อยบาทถ้วน)
AK46: /พร้อมนี้...
A47: -๒-
F49: พร้อมนี้ได้แนบเอกสารประกอบการพิจารณามาด้วยแล้ว ดังนี้
F50: 1 | G50: บัญชีสรุปวันที่ปฏิบัติงานของผู้ควบคุมงาน | AA50: จำนวน | AD50: 1 | AG50: แผ่น
F51: 2 | G51: สำเนารายงานการควบคุมงาน | AA51: จำนวน | AD51: 1 | AG51: ชุด
F52: 3 | G52: สำเนาคำสั่งแต่งตั้งผู้ควบคุมงาน | AA52: จำนวน | AD52: 1 | AG52: ชุด
F54: จึงเรียนมาเพื่อโปรดพิจารณาอนุมัติ
L56: (ลงชื่อ) | X56: หัวหน้าผู้ควบคุมงาน
M57: ="("&G15&")" -> (นายธราเทพ ทองเบ้า)
L59: (ลงชื่อ) | X59: ผู้ควบคุมงาน
M60: ="("&G16&")" -> (นายนิธิพันธ์ ประเสริฐศรี)
B62: เรียน | D62: =C8 -> นายกองค์การบริหารส่วนตำบลยิ้มแย้ม
...

Sheet บัญชีสรุป หน
A1: บัญชีสรุปวันที่ปฏิบัติงานของผู้ควบคุมงาน
A2: ="โครงการ"&กรอกข้อมูล!C5&" ปริมาณงาน "&กรอกข้อมูล!C6 -> โครงการก่อสร้างถนนคอนกรีตเสริมเหล็ก ปริมาณงาน กว้าง 5 ม.ยาว 105 ม. หนา 0.15 ม.
A3: ="ตามคำสั่ง"&กรอกข้อมูล!C3&" ที่ "&กรอกข้อมูล!C9&" ลงวันที่ "&กรอกข้อมูล!C10 -> ตามคำสั่งองค์การบริหารส่วนตำบลยิ้มแย้ม ที่ 124/2563 ลงวันที่ 13 กรกฎาคม 2563
A4: ลำดับ | B4: เดือน | C4: วันที่ที่ปฏิบัติงาน | AH4: รวมเวลา | AI4: หมายเหตุ
C5: 1 | D5: =C5+1 -> 2 | E5: =D5+1 -> 3 | F5: =E5+1 -> 4 | G5: =F5+1 -> 5 | H5: =G5+1 -> 6 | I5: =H5+1 -> 7 | J5: =I5+1 -> 8 | K5: =J5+1 -> 9 | ... AG5: =AF5+1 -> 31 | AH5: ปฏิบัติงาน(วัน)
A6: 1 | B6: มกราคม
A7: 2 | B7: กุมภาพันธ์
A8: 3 | B8: มีนาคม
A9: 4 | B9: เมษายน
A10: 5 | B10: พฤษภาคม
A11: 6 | B11: มิถุนายน
A12: 7 | B12: กรกฎาคม
A13: 8 | B13: สิงหาคม
A14: 9 | B14: กันยายน
A15: 10 | B15: ตุลาคม
A16: 11 | B16: พฤศจิกายน
A17: 12 | B17: ธันวาคม
AG18: รวม
B19: ขอรับรองว่าข้าพเจ้าได้ออกปฏิบัติงานในวันดังกล่าวจริง
C22: ลงชื่อ | L22: ='บันทึก หน+ผคง'!AD38 -> หัวหน้าผู้ควบคุมงาน | V22: ลงชื่อ | AE22: ='บันทึก หน+ผคง'!X59 -> ผู้ควบคุมงาน
D23: ='บันทึก หน+ผคง'!M57 -> (นายธราเทพ ทองเบ้า) | W23: ='บันทึก หน+ผคง'!M60 -> (นายนิธิพันธ์ ประเสริฐศรี)

Sheet บันทึก ผคง
B2: บันทึกข้อความ
A4: ส่วนราชการ | F4: =กรอกข้อมูล!C3&" ผู้ควบคุมงาน โทร."&กรอกข้อมูล!R4&"-"&กรอกข้อมูล!S4&"-"&กรอกข้อมูล!T4 -> องค์การบริหารส่วนตำบลยิ้มแย้ม ผู้ควบคุมงาน โทร.0-3742-7667
A5: ที่ | H5: - | R5: วันที่ | T5: =NOW() -> 44085.902
A6: เรื่อง | C6: ="ขออนุมัติเบิกจ่ายเงินค่าตอบแทนผู้ควบคุมงานก่อสร้าง" -> ขออนุมัติเบิกจ่ายเงินค่าตอบแทนผู้ควบคุมงานก่อสร้าง
A8: เรียน | C8: ="นายก"&กรอกข้อมูล!C3 -> นายกองค์การบริหารส่วนตำบลยิ้มแย้ม
F10: ๑.เรื่องเดิม
A11: =" ตามที่"&กรอกข้อมูล!C3&" ดำเนินโครงการ"&กรอกข้อมูล!C5&" ปริมาณงาน "&กรอกข้อมูล!C6&" "&กรอกข้อมูล!C7&" งบประมาณ "&FIXED(กรอกข้อมูล!C8,0)&".- บาท (-"&BAHTTEXT(กรอกข้อมูล!C8)&"-) โดยแต่งตั้งข้าพเจ้าเป็น ผู้ควบคุมงานก่อสร้าง ตามคำสั่ง"&กรอกข้อมูล!C3&" ที่ "&กรอกข้อมูล!C9&" ลงวันที่ "&กรอกข้อมูล!C10 -> ตามที่องค์การบริหารส่วนตำบลยิ้มแย้ม ดำเนินโครงการก่อสร้างถนนคอนกรีตเสริมเหล็ก ปริมาณงาน กว้าง 5 ม.ยาว 105 ม. หนา 0.15 ม. หมู่ 1 บ้านสระหลวง ตำบลไทรเดี่ยว อำเภอคลองหาด จังหวัดสระแก้ว งบประมาณ 30,000.- บาท (-สามหมื่นบาทถ้วน-) โดยแต่งตั้งข้าพเจ้าเป็น ผู้ควบคุมงานก่อสร้าง ตามคำสั่งองค์การบริหารส่วนตำบลยิ้มแย้ม ที่ 124/2563 ลงวันที่ 13 กรกฎาคม 2563
F16: ๒.ข้อเท็จจริง
A17: =" ข้าพเจ้าได้ปฏิบัติหน้าที่ตามที่ได้รับมอบหมายแล้ว และมีสิทธิ์ได้รับค่าตอบแทนตามหลักเกณฑ์เบิกจ่ายค่าตอบแทนบุคคลหรือคณะกรรมการ ตามหนังสือกระทรวงการคลัง ด่วนที่สุดที่ กค ๐๕๐๒.๕/ว ๘๕ ลงวันที่ ๖ กันยายน ๒๕๖๑"&" โดยพระราชบัญญัติการจัดซื้อจัดจ้างและการบริหารพัสดุภาครัฐ พ.ศ. ๒๕๖๐ ได้กำหนดให้บุคคลหรือคณะกรรมการผู้รับผิดชอบการจัดซื้อจัดจ้างและการบริหารพัสดุภาครัฐ ได้รับค่าตอบแทน ตามที่กระทรวงการคลังกำหนด " -> ข้าพเจ้าได้ปฏิบัติหน้าที่ตามที่ได้รับมอบหมายแล้ว และมีสิทธิ์ได้รับค่าตอบแทนตามหลักเกณฑ์เบิกจ่ายค่าตอบแทนบุคคลหรือคณะกรรมการ ตามหนังสือกระทรวงการคลัง ด่วนที่สุดที่ กค ๐๕๐๒.๕/ว ๘๕ ลงวันที่ ๖ กันยายน ๒๕๖๑ โดยพระราชบัญญัติการจัดซื้อจัดจ้างและการบริหารพัสดุภาครัฐ พ.ศ. ๒๕๖๐ ได้กำหนดให้บุคคลหรือคณะกรรมการผู้รับผิดชอบการจัดซื้อจัดจ้างและการบริหารพัสดุภาครัฐ ได้รับค่าตอบแทน ตามที่กระทรวงการคลังกำหนด
F21: ๓.ข้อระเบียบ กฎหมาย
F22: ๓.๑ พระราชบัญญัติการจัดซื้อจัดจ้างและการบริหารพัสดุภาครัฐ พ.ศ. ๒๕๖๐
A23: มาตรา ๖๑ ในการจัดซื้อจัดจ้างพัสดุแต่ละครั้ง ให้ผู้มีอำนาจแต่งตั้งผู้รับผิดชอบการจัดซื้อจัดจ้างนั้นซึ่งกระทำโดยคณะกรรมการจัดซื้อจัดจ้างหรือเจ้าหน้าที่คนใดคนหนึ่ง
A25: องค์ประกอบและองค์ประชุมซึ่งกระทำโดยคณะกรรมการ และหน้าที่ผู้รับผิดชอบการจัดซื้อจัดจ้างตามวรรคหนึ่ง ให้เป็นไปตามระเบียบที่รัฐมนตรีกำหนด
A27: ค่าตอบแทนผู้รับผิดชอบการจัดซื้อจัดจ้างตามวรรคหนึ่ง ให้เป็นไปตามที่กระทรวงการคลังกำหนด
F28: 3.2 ระเบียบกระทรวงการคลังว่าด้วยการจัดซื้อจัดจ้างและการบริหารพัสดุภาครัฐ พ.ศ. ๒๕๖๐
F29: ๓.๓ หนังสือกระทรวงการคลัง ด่วนที่สุด ที่ กค ๐๔๐๒.๕/ว ๘๕ ลงวันที่ ๖ กันยายน ๒๕๖๑ เรื่อง หลักเกณฑ์
A30: การเบิกจ่ายค่าตอบแทนบุคคลหรือคณะกรรมการ
F31: ="๓.๔ ประกาศ"&กรอกข้อมูล!C3&" เรื่องกำหนดหลักเกณฑ์และอัตราการเบิกจ่ายค่าตอบแทน" -> ๓.๔ ประกาศองค์การบริหารส่วนตำบลยิ้มแย้ม เรื่องกำหนดหลักเกณฑ์และอัตราการเบิกจ่ายค่าตอบแทน
A32: บุคคลหรือคณะกรรมการผู้รับผิดชอบการจัดซื้อจัดจ้างและบริหารพัสดุภาครัฐ ลงวันที่ ๑๔ กันยายน ๒๕๖๒
F34: ๔.ข้อเสนอเพื่อพิจารณา
F35: ขออนุมัติเบิกค่าตอบแทนผู้ควบคุมงาน ที่มีสิทธิ์ได้รับค่าตอบแทน ดังนี้
A36: จำนวนวันที่ปฏิบัติงาน | I36: 10 | K36: วัน ๆ ละ | O36: 300 | S36: บาท | U36: เป็นเงิน | X36: =I36*O36 -> 3000 | AB36: บาท
F37: รวมเป็นเงินทั้งสิ้น | L37: =X36 -> 3000 | Q37: บาท | S37: ="("&BAHTTEXT(L37)&")" -> (สามพันบาทถ้วน)
F39: พร้อมนี้ได้แนบเอกสารประกอบการพิจารณามาด้วยแล้ว ดังนี้
F40: 1 | G40: บัญชีสรุปวันที่ปฏิบัติงานของผู้ควบคุมงาน | AA40: จำนวน | AD40: 1 | AG40: แผ่น
F41: 2 | G41: สำเนารายงานการควบคุมงาน | AA41: จำนวน | AD41: 1 | AG41: ชุด
F42: 3 | G42: สำเนาคำสั่งแต่งตั้งผู้ควบคุมงาน | AA42: จำนวน | AD42: 1 | AG42: ชุด
F44: จึงเรียนมาเพื่อโปรดพิจารณาอนุมัติ
L46: (ลงชื่อ) | X46: ผู้ควบคุมงาน
M47: ="("&กรอกข้อมูล!C15&")" -> (นายนิธิพันธ์ ประเสริฐศรี) | AK47: /เรียน...
A48: -๒-
B51: เรียน | D51: =C8 -> นายกองค์การบริหารส่วนตำบลยิ้มแย้ม
D52: - เพื่อโปรดพิจารณา
D53: [ ] เห็นควรอนุมัติ
D54: [ ] ไม่ควรอนุมัติ เนื่องจาก..........................................................................................................
E57: ="("&กรอกข้อมูล!C18&")" -> (นายประยูร มณีฉาย)
E58: ="ปลัด"&กรอกข้อมูล!C3 -> ปลัดองค์การบริหารส่วนตำบลยิ้มแย้ม
D60: [ ] อนุมัติ
D61: [ ] ไม่อนุมัติ เนื่องจาก..........................................................................................................
E64: ="("&กรอกข้อมูล!C19&")" -> (นายประยูร มณีฉาย)
...

Sheet บัญชีสรุป ผคง
A1: บัญชีสรุปวันที่ปฏิบัติงานของผู้ควบคุมงาน
A2: ="โครงการ"&กรอกข้อมูล!C5&" ปริมาณงาน "&กรอกข้อมูล!C6 -> โครงการก่อสร้างถนนคอนกรีตเสริมเหล็ก ปริมาณงาน กว้าง 5 ม.ยาว 105 ม. หนา 0.15 ม.
A3: ="ตามคำสั่ง"&กรอกข้อมูล!C3&" ที่ "&กรอกข้อมูล!C9&" ลงวันที่ "&กรอกข้อมูล!C10 -> ตามคำสั่งองค์การบริหารส่วนตำบลยิ้มแย้ม ที่ 124/2563 ลงวันที่ 13 กรกฎาคม 2563
A4: ลำดับ | B4: เดือน | C4: วันที่ที่ปฏิบัติงาน | AH4: รวมเวลา | AI4: หมายเหตุ
C5: 1 | D5: =C5+1 -> 2 | E5: =D5+1 -> 3 | F5: =E5+1 -> 4 | G5: =F5+1 -> 5 | H5: =G5+1 -> 6 | I5: =H5+1 -> 7 | J5: =I5+1 -> 8 | K5: =J5+1 -> 9 | ... AG5: =AF5+1 -> 31 | AH5: ปฏิบัติงาน(วัน)
A6: 1 | B6: มกราคม
A7: 2 | B7: กุมภาพันธ์
A8: 3 | B8: มีนาคม
A9: 4 | B9: เมษายน
A10: 5 | B10: พฤษภาคม
A11: 6 | B11: มิถุนายน
A12: 7 | B12: กรกฎาคม
A13: 8 | B13: สิงหาคม
A14: 9 | B14: กันยายน
A15: 10 | B15: ตุลาคม
A16: 11 | B16: พฤศจิกายน
A17: 12 | B17: ธันวาคม
AG18: รวม
B19: ขอรับรองว่าข้าพเจ้าได้ออกปฏิบัติงานในวันดังกล่าวจริง
C22: ลงชื่อ | L22: ='บันทึก หน+ผคง'!X59 -> ผู้ควบคุมงาน
D23: ='บันทึก หน+ผคง'!M60 -> (นายนิธิพันธ์ ประเสริฐศรี)
