Workbook

Sheet NGL_Data
Q1: ปากคลองเดิมกว้างเฉลี่ย | S1: 10
Q2: ต้องการขุดขยายปากคลองกว้าง | S2: 12 | T2: เมตร
A3: NGL | Q3: ลาดเอียง (ดิ่ง : ราบ) := 1 : | S3: 1
F4: IFS | L4: EVEV. | Q4: ระดับก่อสร้าง
A5: STA | B5: BS | C5: HI | D5: LT | F5: DISTANCE | G5: RT | I5: FS | J5: LT | L5: DISTANCE | M5: RT | O5: REMARK | Q5: ระดับท้องคลอง
D6: =S1/2 -> 5 | E6: L1 | F6: CL | G6: R1 | H6: =S1/2 -> 5 | J6: L2 | K6: L1 | L6: CL | M6: R1 | N6: R2 | Q6: Grade elevation | S6: ระดับดินเดิม NGL | T6: ระดับก่อสร้าง CONS
A7: BM0 | B7: 0.85 | C7: =$L$7+B7 -> 100.85 | L7: 100 | S7: =L7 -> 100 | T7: =Q7 -> 0
A8: 0+000 | C8: =$L$7+B8 -> 100 | D8: 2 | E8: 3.82 | F8: 3.8 | G8: 3.7 | H8: 1.65 | J8: =$C$7-D8 -> 98.85 | K8: =$C$7-E8 -> 97.03 | L8: =$C$7-F8 -> 97.05 | M8: =$C$7-G8 -> 97.15 | N8: =$C$7-H8 -> 99.2 | Q8: 95 | S8: =L8 -> 97.05 | T8: =Q8 -> 95
A9: 0+025 | C9: =$L$7+B9 -> 100 | D9: 2.3 | E9: 3.45 | F9: 3.7 | G9: 3.56 | H9: 2.32 | J9: =$C$7-D9 -> 98.55 | K9: =$C$7-E9 -> 97.4 | L9: =$C$7-F9 -> 97.15 | M9: =$C$7-G9 -> 97.29 | N9: =$C$7-H9 -> 98.53 | Q9: 96 | S9: =L9 -> 97.15 | T9: =Q9 -> 96
A10: TP | B10: 1.325 | I10: 1.235 | L10: =$C$7-F10 -> 100.85 | S10: =L10 -> 100.85 | T10: =Q10 -> 0
A11: 0+050 | C11: =$L$7+B11 -> 100 | D11: 2.23 | E11: 3.5 | F11: 3.65 | G11: 3.29 | H11: 2.3 | J11: =$C$7-D11 -> 98.62 | K11: =$C$7-E11 -> 97.35 | L11: =$C$7-F11 -> 97.2 | M11: =$C$7-G11 -> 97.56 | N11: =$C$7-H11 -> 98.55 | Q11: 95.5 | S11: =L11 -> 97.2 | T11: =Q11 -> 95.5
A12: 0+075 | S12: =L12 -> 0 | T12: =Q12 -> 0
A13: 0+100 | S13: =L13 -> 0 | T13: =Q13 -> 0
A14: 0+125 | S14: =L14 -> 0 | T14: =Q14 -> 0
A15: 0+150 | S15: =L15 -> 0 | T15: =Q15 -> 0
A16: 0+175 | S16: =L16 -> 0 | T16: =Q16 -> 0
A17: 0+200 | S17: =L17 -> 0 | T17: =Q17 -> 0
A18: 0+225 | S18: =L18 -> 0 | T18: =Q18 -> 0
A19: 0+250 | S19: =L19 -> 0 | T19: =Q19 -> 0
A20: 0+275 | S20: =L20 -> 0 | T20: =Q20 -> 0
A21: 0+300 | S21: =L21 -> 0 | T21: =Q21 -> 0
A22: 0+325 | S22: =L22 -> 0 | T22: =Q22 -> 0
A23: 0+350 | S23: =L23 -> 0 | T23: =Q23 -> 0
... A150: 3+525 | S150: =L150 -> 0 | T150: =Q150 -> 0

Sheet Cal
A5: STA | B5: พื้นที่หน้าตัดคลอง | J5: Distance | O5: elev
B6: B | C6: HL | D6: DL | E6: HC | F6: HR | G6: DR | H6: Area (sq.m.) | J6: L2 | K6: L1 | L6: CL | M6: R1 | N6: R2 | O6: L2 | P6: L1 | Q6: CL | R6: R1 | S6: R2
A7: =NGL_Data!A7 -> BM0
A8: =NGL_Data!A8 -> 0+000 | B8: =NGL_Data!$S$2-((NGL_Data!$J8-NGL_Data!$Q8)*NGL_Data!$S$3)-((NGL_Data!$N8-NGL_Data!$Q8)*NGL_Data!$S$3) -> 3.95 | C8: =NGL_Data!$K8-NGL_Data!$Q8 -> 2.03 | D8: =NGL_Data!$S$2-($B8/2)-((NGL_Data!$N8-NGL_Data!$Q8)*NGL_Data!$S$3) -> 5.825 | E8: =NGL_Data!$L8-NGL_Data!$Q8 -> 2.05 | F8: =NGL_Data!$M8-NGL_Data!$Q8 -> 2.15 | G8: =NGL_Data!$S$2-($B8/2)-((NGL_Data!$J8-NGL_Data!$Q8)*NGL_Data!$S$3) -> 6.175 | H8: =(($B8*$E8)+($C8*$D8)+($F8*$G8))/2 -> 16.59925 | J8: =D8 -> 5.825 | K8: =B8/2 -> 1.975 | L8: 0 | M8: =B8/2 -> 1.975 | N8: =G8 -> 6.175 | O8: =NGL_Data!$J8 -> 98.85 | P8: =Q8 -> 95 | Q8: =NGL_Data!Q8 -> 95 | R8: =Q8 -> 95 | S8: =NGL_Data!$N8 -> 99.2
A9: =NGL_Data!A9 -> 0+025 | B9: =NGL_Data!$S$2-((NGL_Data!$J9-NGL_Data!$Q9)*NGL_Data!$S$3)-((NGL_Data!$N9-NGL_Data!$Q9)*NGL_Data!$S$3) -> 6.92 | C9: =NGL_Data!$K9-NGL_Data!$Q9 -> 1.4 | D9: =NGL_Data!$S$2-($B9/2)-((NGL_Data!$N9-NGL_Data!$Q9)*NGL_Data!$S$3) -> 6.01 | E9: =NGL_Data!$L9-NGL_Data!$Q9 -> 1.15 | F9: =NGL_Data!$M9-NGL_Data!$Q9 -> 1.29 | G9: =NGL_Data!$S$2-($B9/2)-((NGL_Data!$J9-NGL_Data!$Q9)*NGL_Data!$S$3) -> 5.99 | H9: =(($B9*$E9)+($C9*$D9)+($F9*$G9))/2 -> 12.04955 | J9: =D9 -> 6.01 | K9: =B9/2 -> 3.46 | L9: 0 | M9: =B9/2 -> 3.46 | N9: =G9 -> 5.99 | O9: =NGL_Data!$J9 -> 98.55 | P9: =Q9 -> 96 | Q9: =NGL_Data!Q9 -> 96 | R9: =Q9 -> 96 | S9: =NGL_Data!$N9 -> 98.53
A10: =NGL_Data!A10 -> TP | B10: =NGL_Data!$S$2-((NGL_Data!$J10-NGL_Data!$Q10)*NGL_Data!$S$3)-((NGL_Data!$N10-NGL_Data!$Q10)*NGL_Data!$S$3) -> 12 | C10: =NGL_Data!$K10-NGL_Data!$Q10 -> 0 | D10: =NGL_Data!$S$2-($B10/2)-((NGL_Data!$N10-NGL_Data!$Q10)*NGL_Data!$S$3) -> 6 | E10: =NGL_Data!$L10-NGL_Data!$Q10 -> 100.85 | F10: =NGL_Data!$M10-NGL_Data!$Q10 -> 0 | G10: =NGL_Data!$S$2-($B10/2)-((NGL_Data!$J10-NGL_Data!$Q10)*NGL_Data!$S$3) -> 6 | H10: =(($B10*$E10)+($C10*$D10)+($F10*$G10))/2 -> 605.1 | J10: =D10 -> 6 | K10: =B10/2 -> 6 | L10: 0 | M10: =B10/2 -> 6 | N10: =G10 -> 6 | O10: =NGL_Data!$J10 -> 0 | P10: =Q10 -> 0 | Q10: =NGL_Data!Q10 -> 0 | R10: =Q10 -> 0 | S10: =NGL_Data!$N10 -> 0
A11: =NGL_Data!A11 -> 0+050 | B11: =NGL_Data!$S$2-((NGL_Data!$J11-NGL_Data!$Q11)*NGL_Data!$S$3)-((NGL_Data!$N11-NGL_Data!$Q11)*NGL_Data!$S$3) -> 5.83 | C11: =NGL_Data!$K11-NGL_Data!$Q11 -> 1.85 | D11: =NGL_Data!$S$2-($B11/2)-((NGL_Data!$N11-NGL_Data!$Q11)*NGL_Data!$S$3) -> 6.035 | E11: =NGL_Data!$L11-NGL_Data!$Q11 -> 1.7 | F11: =NGL_Data!$M11-NGL_Data!$Q11 -> 2.06 | G11: =NGL_Data!$S$2-($B11/2)-((NGL_Data!$J11-NGL_Data!$Q11)*NGL_Data!$S$3) -> 5.965 | H11: =(($B11*$E11)+($C11*$D11)+($F11*$G11))/2 -> 16.681825 | J11: =D11 -> 6.035 | K11: =B11/2 -> 2.915 | L11: 0 | M11: =B11/2 -> 2.915 | N11: =G11 -> 5.965 | O11: =NGL_Data!$J11 -> 98.62 | P11: =Q11 -> 95.5 | Q11: =NGL_Data!Q11 -> 95.5 | R11: =Q11 -> 95.5 | S11: =NGL_Data!$N11 -> 98.55
A12: =NGL_Data!A12 -> 0+075 | B12: =NGL_Data!$S$2-((NGL_Data!$J12-NGL_Data!$Q12)*NGL_Data!$S$3)-((NGL_Data!$N12-NGL_Data!$Q12)*NGL_Data!$S$3) -> 12 | C12: =NGL_Data!$K12-NGL_Data!$Q12 -> 0 | D12: =NGL_Data!$S$2-($B12/2)-((NGL_Data!$N12-NGL_Data!$Q12)*NGL_Data!$S$3) -> 6 | E12: =NGL_Data!$L12-NGL_Data!$Q12 -> 0 | F12: =NGL_Data!$M12-NGL_Data!$Q12 -> 0 | G12: =NGL_Data!$S$2-($B12/2)-((NGL_Data!$J12-NGL_Data!$Q12)*NGL_Data!$S$3) -> 6 | H12: =(($B12*$E12)+($C12*$D12)+($F12*$G12))/2 -> 0 | J12: =D12 -> 6 | K12: =B12/2 -> 6 | L12: 0 | M12: =B12/2 -> 6 | N12: =G12 -> 6 | O12: =NGL_Data!$J12 -> 0 | P12: =Q12 -> 0 | Q12: =NGL_Data!Q12 -> 0 | R12: =Q12 -> 0 | S12: =NGL_Data!$N12 -> 0
A13: =NGL_Data!A13 -> 0+100 | B13: =NGL_Data!$S$2-((NGL_Data!$J13-NGL_Data!$Q13)*NGL_Data!$S$3)-((NGL_Data!$N13-NGL_Data!$Q13)*NGL_Data!$S$3) -> 12 | C13: =NGL_Data!$K13-NGL_Data!$Q13 -> 0 | D13: =NGL_Data!$S$2-($B13/2)-((NGL_Data!$N13-NGL_Data!$Q13)*NGL_Data!$S$3) -> 6 | E13: =NGL_Data!$L13-NGL_Data!$Q13 -> 0 | F13: =NGL_Data!$M13-NGL_Data!$Q13 -> 0 | G13: =NGL_Data!$S$2-($B13/2)-((NGL_Data!$J13-NGL_Data!$Q13)*NGL_Data!$S$3) -> 6 | H13: =(($B13*$E13)+($C13*$D13)+($F13*$G13))/2 -> 0 | J13: =D13 -> 6 | K13: =B13/2 -> 6 | L13: 0 | M13: =B13/2 -> 6 | N13: =G13 -> 6 | O13: =NGL_Data!$J13 -> 0 | P13: =Q13 -> 0 | Q13: =NGL_Data!Q13 -> 0 | R13: =Q13 -> 0 | S13: =NGL_Data!$N13 -> 0
A14: =NGL_Data!A14 -> 0+125 | B14: =NGL_Data!$S$2-((NGL_Data!$J14-NGL_Data!$Q14)*NGL_Data!$S$3)-((NGL_Data!$N14-NGL_Data!$Q14)*NGL_Data!$S$3) -> 12 | C14: =NGL_Data!$K14-NGL_Data!$Q14 -> 0 | D14: =NGL_Data!$S$2-($B14/2)-((NGL_Data!$N14-NGL_Data!$Q14)*NGL_Data!$S$3) -> 6 | E14: =NGL_Data!$L14-NGL_Data!$Q14 -> 0 | F14: =NGL_Data!$M14-NGL_Data!$Q14 -> 0 | G14: =NGL_Data!$S$2-($B14/2)-((NGL_Data!$J14-NGL_Data!$Q14)*NGL_Data!$S$3) -> 6 | H14: =(($B14*$E14)+($C14*$D14)+($F14*$G14))/2 -> 0 | J14: =D14 -> 6 | K14: =B14/2 -> 6 | L14: 0 | M14: =B14/2 -> 6 | N14: =G14 -> 6 | O14: =NGL_Data!$J14 -> 0 | P14: =Q14 -> 0 | Q14: =NGL_Data!Q14 -> 0 | R14: =Q14 -> 0 | S14: =NGL_Data!$N14 -> 0
A15: =NGL_Data!A15 -> 0+150 | B15: =NGL_Data!$S$2-((NGL_Data!$J15-NGL_Data!$Q15)*NGL_Data!$S$3)-((NGL_Data!$N15-NGL_Data!$Q15)*NGL_Data!$S$3) -> 12 | C15: =NGL_Data!$K15-NGL_Data!$Q15 -> 0 | D15: =NGL_Data!$S$2-($B15/2)-((NGL_Data!$N15-NGL_Data!$Q15)*NGL_Data!$S$3) -> 6 | E15: =NGL_Data!$L15-NGL_Data!$Q15 -> 0 | F15: =NGL_Data!$M15-NGL_Data!$Q15 -> 0 | G15: =NGL_Data!$S$2-($B15/2)-((NGL_Data!$J15-NGL_Data!$Q15)*NGL_Data!$S$3) -> 6 | H15: =(($B15*$E15)+($C15*$D15)+($F15*$G15))/2 -> 0 | J15: =D15 -> 6 | K15: =B15/2 -> 6 | L15: 0 | M15: =B15/2 -> 6 | N15: =G15 -> 6 | O15: =NGL_Data!$J15 -> 0 | P15: =Q15 -> 0 | Q15: =NGL_Data!Q15 -> 0 | R15: =Q15 -> 0 | S15: =NGL_Data!$N15 -> 0
A16: =NGL_Data!A16 -> 0+175 | B16: =NGL_Data!$S$2-((NGL_Data!$J16-NGL_Data!$Q16)*NGL_Data!$S$3)-((NGL_Data!$N16-NGL_Data!$Q16)*NGL_Data!$S$3) -> 12 | C16: =NGL_Data!$K16-NGL_Data!$Q16 -> 0 | D16: =NGL_Data!$S$2-($B16/2)-((NGL_Data!$N16-NGL_Data!$Q16)*NGL_Data!$S$3) -> 6 | E16: =NGL_Data!$L16-NGL_Data!$Q16 -> 0 | F16: =NGL_Data!$M16-NGL_Data!$Q16 -> 0 | G16: =NGL_Data!$S$2-($B16/2)-((NGL_Data!$J16-NGL_Data!$Q16)*NGL_Data!$S$3) -> 6 | H16: =(($B16*$E16)+($C16*$D16)+($F16*$G16))/2 -> 0 | J16: =D16 -> 6 | K16: =B16/2 -> 6 | L16: 0 | M16: =B16/2 -> 6 | N16: =G16 -> 6 | O16: =NGL_Data!$J16 -> 0 | P16: =Q16 -> 0 | Q16: =NGL_Data!Q16 -> 0 | R16: =Q16 -> 0 | S16: =NGL_Data!$N16 -> 0
A17: =NGL_Data!A17 -> 0+200 | B17: =NGL_Data!$S$2-((NGL_Data!$J17-NGL_Data!$Q17)*NGL_Data!$S$3)-((NGL_Data!$N17-NGL_Data!$Q17)*NGL_Data!$S$3) -> 12 | C17: =NGL_Data!$K17-NGL_Data!$Q17 -> 0 | D17: =NGL_Data!$S$2-($B17/2)-((NGL_Data!$N17-NGL_Data!$Q17)*NGL_Data!$S$3) -> 6 | E17: =NGL_Data!$L17-NGL_Data!$Q17 -> 0 | F17: =NGL_Data!$M17-NGL_Data!$Q17 -> 0 | G17: =NGL_Data!$S$2-($B17/2)-((NGL_Data!$J17-NGL_Data!$Q17)*NGL_Data!$S$3) -> 6 | H17: =(($B17*$E17)+($C17*$D17)+($F17*$G17))/2 -> 0 | J17: =D17 -> 6 | K17: =B17/2 -> 6 | L17: 0 | M17: =B17/2 -> 6 | N17: =G17 -> 6 | O17: =NGL_Data!$J17 -> 0 | P17: =Q17 -> 0 | Q17: =NGL_Data!Q17 -> 0 | R17: =Q17 -> 0 | S17: =NGL_Data!$N17 -> 0
A18: =NGL_Data!A18 -> 0+225 | B18: =NGL_Data!$S$2-((NGL_Data!$J18-NGL_Data!$Q18)*NGL_Data!$S$3)-((NGL_Data!$N18-NGL_Data!$Q18)*NGL_Data!$S$3) -> 12 | C18: =NGL_Data!$K18-NGL_Data!$Q18 -> 0 | D18: =NGL_Data!$S$2-($B18/2)-((NGL_Data!$N18-NGL_Data!$Q18)*NGL_Data!$S$3) -> 6 | E18: =NGL_Data!$L18-NGL_Data!$Q18 -> 0 | F18: =NGL_Data!$M18-NGL_Data!$Q18 -> 0 | G18: =NGL_Data!$S$2-($B18/2)-((NGL_Data!$J18-NGL_Data!$Q18)*NGL_Data!$S$3) -> 6 | H18: =(($B18*$E18)+($C18*$D18)+($F18*$G18))/2 -> 0 | J18: =D18 -> 6 | K18: =B18/2 -> 6 | L18: 0 | M18: =B18/2 -> 6 | N18: =G18 -> 6 | O18: =NGL_Data!$J18 -> 0 | P18: =Q18 -> 0 | Q18: =NGL_Data!Q18 -> 0 | R18: =Q18 -> 0 | S18: =NGL_Data!$N18 -> 0
A19: =NGL_Data!A19 -> 0+250 | B19: =NGL_Data!$S$2-((NGL_Data!$J19-NGL_Data!$Q19)*NGL_Data!$S$3)-((NGL_Data!$N19-NGL_Data!$Q19)*NGL_Data!$S$3) -> 12 | C19: =NGL_Data!$K19-NGL_Data!$Q19 -> 0 | D19: =NGL_Data!$S$2-($B19/2)-((NGL_Data!$N19-NGL_Data!$Q19)*NGL_Data!$S$3) -> 6 | E19: =NGL_Data!$L19-NGL_Data!$Q19 -> 0 | F19: =NGL_Data!$M19-NGL_Data!$Q19 -> 0 | G19: =NGL_Data!$S$2-($B19/2)-((NGL_Data!$J19-NGL_Data!$Q19)*NGL_Data!$S$3) -> 6 | H19: =(($B19*$E19)+($C19*$D19)+($F19*$G19))/2 -> 0 | J19: =D19 -> 6 | K19: =B19/2 -> 6 | L19: 0 | M19: =B19/2 -> 6 | N19: =G19 -> 6 | O19: =NGL_Data!$J19 -> 0 | P19: =Q19 -> 0 | Q19: =NGL_Data!Q19 -> 0 | R19: =Q19 -> 0 | S19: =NGL_Data!$N19 -> 0
... A150: =NGL_Data!A150 -> 3+525 | B150: =NGL_Data!$S$2-((NGL_Data!$J150-NGL_Data!$Q150)*NGL_Data!$S$3)-((NGL_Data!$N150-NGL_Data!$Q150)*NGL_Data!$S$3) -> 12 | C150: =NGL_Data!$K150-NGL_Data!$Q150 -> 0 | D150: =NGL_Data!$S$2-($B150/2)-((NGL_Data!$N150-NGL_Data!$Q150)*NGL_Data!$S$3) -> 6 | E150: =NGL_Data!$L150-NGL_Data!$Q150 -> 0 | F150: =NGL_Data!$M150-NGL_Data!$Q150 -> 0 | G150: =NGL_Data!$S$2-($B150/2)-((NGL_Data!$J150-NGL_Data!$Q150)*NGL_Data!$S$3) -> 6 | H150: =(($B150*$E150)+($C150*$D150)+($F150*$G150))/2 -> 0 | J150: =D150 -> 6 | K150: =B150/2 -> 6 | L150: 0 | M150: =B150/2 -> 6 | N150: =G150 -> 6 | O150: =NGL_Data!$J150 -> 0 | P150: =Q150 -> 0 | Q150: =NGL_Data!Q150 -> 0 | R150: =Q150 -> 0 | S150: =NGL_Data!$N150 -> 0

Sheet Cal_section
B1: 1 | C1: 2 | D1: 3 | E1: 4 | F1: 5 | G1: 6 | H1: 7 | I1: 8 | J1: 9 | K1: 10 | L1: 11 | M1: 12 | N1: 13 | O1: 14 | P1: 15 | Q1: 16 | R1: 17 | S1: 18 | T1: 19 | U1: 20 | V1: 21 | W1: 22 | X1: 23 | Y1: 24 | Z1: 25 | AA1: 26 | AB1: 27 | AC1: 28 | AD1: 29 | AE1: 30 | AF1: 31 | AG1: 32 | AH1: 33 | AI1: 34 | AJ1: 35 | AK1: 36 | AL1: 37 | AM1: 38 | AN1: 39 | AO1: 40 | AP1: 41 | AQ1: 42 | AR1: 43 | AS1: 44 | AT1: 45 | AU1: 46 | AV1: 47 | AW1: 48 | AX1: 49 | AY1: 50 | AZ1: 51 | BA1: 52 | BB1: 53
B2: CROSS SECTION | BB2: AREA
C4: ระดับดินเดิม NGL | T4: ระดับก่อสร้าง | BB4: พื้นที่
B5: STA | C5: LT | K5: CL | L5: RT | T5: Distance | AK5: Elev | BB5: หน้าตัด
C6: L8 | D6: L7 | E6: L6 | F6: L5 | G6: L4 | H6: L3 | I6: L2 | J6: L1 | L6: R1 | M6: R2 | N6: R3 | O6: R4 | P6: R5 | Q6: R6 | R6: R7 | S6: R8 | T6: L8 | U6: L7 | V6: L6 | W6: L5 | X6: L4 | Y6: L2 | Z6: NGL(L2) | AA6: L1 | AB6: CL | AC6: R1 | AD6: NGL(R2) | AE6: R2 | AF6: R4 | AG6: R5 | AH6: R6 | AI6: R7 | AJ6: R8 | AK6: L7 | AL6: L6 | AM6: L5 | AN6: L4 | AO6: L3 | AP6: L2 | AQ6: LA | AR6: L1 | AS6: CL | AT6: R1 | AU6: RA | AV6: R2 | AW6: R3 | AX6: R4 | AY6: R5 | AZ6: R6 | BA6: R7 | BB6: คลอง
B7: =Cross_section!$S$7 -> 0+025 | C7: =VLOOKUP($B$7,$B$10:$BA$152,B1+1) -> 98.55 | D7: =VLOOKUP($B$7,$B$10:$BA$152,C1+1) -> 98.55 | E7: =VLOOKUP($B$7,$B$10:$BA$152,D1+1) -> 98.55 | F7: =VLOOKUP($B$7,$B$10:$BA$152,E1+1) -> 98.55 | G7: =VLOOKUP($B$7,$B$10:$BA$152,F1+1) -> 98.55 | H7: =VLOOKUP($B$7,$B$10:$BA$152,G1+1) -> 98.55 | I7: =VLOOKUP($B$7,$B$10:$BA$152,H1+1) -> 98.55 | J7: =VLOOKUP($B$7,$B$10:$BA$152,I1+1) -> 97.4 | ... S7: =VLOOKUP($B$7,$B$10:$BA$152,R1+1) -> 98.53 | Y7: =VLOOKUP($B$7,$B$10:$BA$152,X1+1) -> 6.01 | Z7: =VLOOKUP($B$7,$B$10:$BA$152,Y1+1) -> 5 | AA7: =VLOOKUP($B$7,$B$10:$BA$152,Z1+1) -> 3.46 | AB7: =VLOOKUP($B$7,$B$10:$BA$152,AA1+1) -> 0 | AC7: =VLOOKUP($B$7,$B$10:$BA$152,AB1+1) -> 3.46 | AD7: =VLOOKUP($B$7,$B$10:$BA$152,AC1+1) -> 5 | AE7: =VLOOKUP($B$7,$B$10:$BA$152,AD1+1) -> 5.99 | AK7: =VLOOKUP($B$7,$B$10:$BA$152,AJ1+1) -> 98.55 | AL7: =VLOOKUP($B$7,$B$10:$BA$152,AK1+1) -> 98.55 | AM7: =VLOOKUP($B$7,$B$10:$BA$152,AL1+1) -> 99.75 | AN7: =VLOOKUP($B$7,$B$10:$BA$152,AM1+1) -> 99.75 | AO7: =VLOOKUP($B$7,$B$10:$BA$152,AN1+1) -> 98.55 | AP7: =VLOOKUP($B$7,$B$10:$BA$152,AO1+1) -> 98.55 | AQ7: =VLOOKUP($B$7,$B$10:$BA$152,AP1+1) -> 97.275 | AR7: =VLOOKUP($B$7,$B$10:$BA$152,AQ1+1) -> 96 | ... BA7: =VLOOKUP($B$7,$B$10:$BA$152,AZ1+1) -> 98.53 | BB7: =VLOOKUP($B$7,$B$10:$BB$152,BA1+1) -> 12.04955
B8: =Cross_section!$S$8 -> 0+000 | C8: =VLOOKUP($B$8,$B$10:$BA$152,B1+1) -> 98.85 | D8: =VLOOKUP($B$8,$B$10:$BA$152,C1+1) -> 98.85 | E8: =VLOOKUP($B$8,$B$10:$BA$152,D1+1) -> 98.85 | F8: =VLOOKUP($B$8,$B$10:$BA$152,E1+1) -> 98.85 | G8: =VLOOKUP($B$8,$B$10:$BA$152,F1+1) -> 98.85 | H8: =VLOOKUP($B$8,$B$10:$BA$152,G1+1) -> 98.85 | I8: =VLOOKUP($B$8,$B$10:$BA$152,H1+1) -> 98.85 | J8: =VLOOKUP($B$8,$B$10:$BA$152,I1+1) -> 97.03 | ... S8: =VLOOKUP($B$8,$B$10:$BA$152,R1+1) -> 99.2 | Y8: =VLOOKUP($B$8,$B$10:$BA$152,X1+1) -> 5.825 | Z8: =VLOOKUP($B$8,$B$10:$BA$152,Y1+1) -> 5 | AA8: =VLOOKUP($B$8,$B$10:$BA$152,Z1+1) -> 1.975 | AB8: =VLOOKUP($B$8,$B$10:$BA$152,AA1+1) -> 0 | AC8: =VLOOKUP($B$8,$B$10:$BA$152,AB1+1) -> 1.975 | AD8: =VLOOKUP($B$8,$B$10:$BA$152,AC1+1) -> 5 | AE8: =VLOOKUP($B$8,$B$10:$BA$152,AD1+1) -> 6.175 | AK8: =VLOOKUP($B$8,$B$10:$BA$152,AJ1+1) -> 98.85 | AL8: =VLOOKUP($B$8,$B$10:$BA$152,AK1+1) -> 98.85 | AM8: =VLOOKUP($B$8,$B$10:$BA$152,AL1+1) -> 100.05 | AN8: =VLOOKUP($B$8,$B$10:$BA$152,AM1+1) -> 100.05 | AO8: =VLOOKUP($B$8,$B$10:$BA$152,AN1+1) -> 98.85 | AP8: =VLOOKUP($B$8,$B$10:$BA$152,AO1+1) -> 98.85 | AQ8: =VLOOKUP($B$8,$B$10:$BA$152,AP1+1) -> 96.925 | AR8: =VLOOKUP($B$8,$B$10:$BA$152,AQ1+1) -> 95 | ... BA8: =VLOOKUP($B$8,$B$10:$BA$152,AZ1+1) -> 99.2 | BB8: =VLOOKUP($B$8,$B$10:$BB$152,BA1+1) -> 16.59925
B9: =NGL_Data!A7 -> BM0 | K9: =NGL_Data!L7 -> 100
B10: =NGL_Data!A8 -> 0+000 | C10: =D10 -> 98.85 | D10: =E10 -> 98.85 | E10: =F10 -> 98.85 | F10: =G10 -> 98.85 | G10: =H10 -> 98.85 | H10: =I10 -> 98.85 | I10: =NGL_Data!J8 -> 98.85 | J10: =NGL_Data!K8 -> 97.03 | K10: =NGL_Data!L8 -> 97.05 | L10: =NGL_Data!M8 -> 97.15 | M10: =NGL_Data!N8 -> 99.2 | N10: =M10 -> 99.2 | O10: =N10 -> 99.2 | P10: =O10 -> 99.2 | Q10: =P10 -> 99.2 | R10: =Q10 -> 99.2 | S10: =R10 -> 99.2 | Y10: =Cal!$J8 -> 5.825 | Z10: =NGL_Data!$D$6 -> 5 | AA10: =Cal!$K8 -> 1.975 | AB10: =Cal!$L8 -> 0 | AC10: =Cal!$M8 -> 1.975 | AD10: =NGL_Data!$H$6 -> 5 | AE10: =Cal!$N8 -> 6.175 | AK10: =AL10 -> 98.85 | AL10: =AO10 -> 98.85 | AM10: =AN10 -> 100.05 | AN10: =AO10+1.2 -> 100.05 | AO10: =AP10 -> 98.85 | AP10: =Cal!O8 -> 98.85 | AQ10: =(AP10+AR10)/2 -> 96.925 | AR10: =Cal!P8 -> 95 | AS10: =Cal!Q8 -> 95 | AT10: =Cal!R8 -> 95 | AU10: =(AT10+AV10)/2 -> 97.1 | AV10: =Cal!S8 -> 99.2 | AW10: =AV10 -> 99.2 | AX10: =AW10+1.2 -> 100.4 | AY10: =AX10 -> 100.4 | AZ10: =AW10 -> 99.2 | BA10: =AZ10 -> 99.2 | BB10: =Cal!H8 -> 16.59925
B11: =NGL_Data!A9 -> 0+025 | C11: =D11 -> 98.55 | D11: =E11 -> 98.55 | E11: =F11 -> 98.55 | F11: =G11 -> 98.55 | G11: =H11 -> 98.55 | H11: =I11 -> 98.55 | I11: =NGL_Data!J9 -> 98.55 | J11: =NGL_Data!K9 -> 97.4 | K11: =NGL_Data!L9 -> 97.15 | L11: =NGL_Data!M9 -> 97.29 | M11: =NGL_Data!N9 -> 98.53 | N11: =M11 -> 98.53 | O11: =N11 -> 98.53 | P11: =O11 -> 98.53 | Q11: =P11 -> 98.53 | R11: =Q11 -> 98.53 | S11: =R11 -> 98.53 | Y11: =Cal!$J9 -> 6.01 | Z11: =NGL_Data!$D$6 -> 5 | AA11: =Cal!$K9 -> 3.46 | AB11: =Cal!$L9 -> 0 | AC11: =Cal!$M9 -> 3.46 | AD11: =NGL_Data!$H$6 -> 5 | AE11: =Cal!$N9 -> 5.99 | AK11: =AL11 -> 98.55 | AL11: =AO11 -> 98.55 | AM11: =AN11 -> 99.75 | AN11: =AO11+1.2 -> 99.75 | AO11: =AP11 -> 98.55 | AP11: =Cal!O9 -> 98.55 | AQ11: =(AP11+AR11)/2 -> 97.275 | AR11: =Cal!P9 -> 96 | AS11: =Cal!Q9 -> 96 | AT11: =Cal!R9 -> 96 | AU11: =(AT11+AV11)/2 -> 97.265 | AV11: =Cal!S9 -> 98.53 | AW11: =AV11 -> 98.53 | AX11: =AW11+1.2 -> 99.73 | AY11: =AX11 -> 99.73 | AZ11: =AW11 -> 98.53 | BA11: =AZ11 -> 98.53 | BB11: =Cal!H9 -> 12.04955
B12: =NGL_Data!A10 -> TP | C12: =D12 -> 0 | D12: =E12 -> 0 | E12: =F12 -> 0 | F12: =G12 -> 0 | G12: =H12 -> 0 | H12: =I12 -> 0 | I12: =NGL_Data!J10 -> 0 | J12: =NGL_Data!K10 -> 0 | K12: =NGL_Data!L10 -> 100.85 | L12: =NGL_Data!M10 -> 0 | M12: =NGL_Data!N10 -> 0 | N12: =M12 -> 0 | O12: =N12 -> 0 | P12: =O12 -> 0 | Q12: =P12 -> 0 | R12: =Q12 -> 0 | S12: =R12 -> 0 | Y12: =Cal!$J10 -> 6 | Z12: =NGL_Data!$D$6 -> 5 | AA12: =Cal!$K10 -> 6 | AB12: =Cal!$L10 -> 0 | AC12: =Cal!$M10 -> 6 | AD12: =NGL_Data!$H$6 -> 5 | AE12: =Cal!$N10 -> 6 | AK12: =AL12 -> 0 | AL12: =AO12 -> 0 | AM12: =AN12 -> 1.2 | AN12: =AO12+1.2 -> 1.2 | AO12: =AP12 -> 0 | AP12: =Cal!O10 -> 0 | AQ12: =(AP12+AR12)/2 -> 0 | AR12: =Cal!P10 -> 0 | AS12: =Cal!Q10 -> 0 | AT12: =Cal!R10 -> 0 | AU12: =(AT12+AV12)/2 -> 0 | AV12: =Cal!S10 -> 0 | AW12: =AV12 -> 0 | AX12: =AW12+1.2 -> 1.2 | AY12: =AX12 -> 1.2 | AZ12: =AW12 -> 0 | BA12: =AZ12 -> 0 | BB12: =Cal!H10 -> 605.1
B13: =NGL_Data!A11 -> 0+050 | C13: =D13 -> 98.62 | D13: =E13 -> 98.62 | E13: =F13 -> 98.62 | F13: =G13 -> 98.62 | G13: =H13 -> 98.62 | H13: =I13 -> 98.62 | I13: =NGL_Data!J11 -> 98.62 | J13: =NGL_Data!K11 -> 97.35 | K13: =NGL_Data!L11 -> 97.2 | L13: =NGL_Data!M11 -> 97.56 | M13: =NGL_Data!N11 -> 98.55 | N13: =M13 -> 98.55 | O13: =N13 -> 98.55 | P13: =O13 -> 98.55 | Q13: =P13 -> 98.55 | R13: =Q13 -> 98.55 | S13: =R13 -> 98.55 | Y13: =Cal!$J11 -> 6.035 | Z13: =NGL_Data!$D$6 -> 5 | AA13: =Cal!$K11 -> 2.915 | AB13: =Cal!$L11 -> 0 | AC13: =Cal!$M11 -> 2.915 | AD13: =NGL_Data!$H$6 -> 5 | AE13: =Cal!$N11 -> 5.965 | AK13: =AL13 -> 98.62 | AL13: =AO13 -> 98.62 | AM13: =AN13 -> 99.82 | AN13: =AO13+1.2 -> 99.82 | AO13: =AP13 -> 98.62 | AP13: =Cal!O11 -> 98.62 | AQ13: =(AP13+AR13)/2 -> 97.06 | AR13: =Cal!P11 -> 95.5 | AS13: =Cal!Q11 -> 95.5 | AT13: =Cal!R11 -> 95.5 | AU13: =(AT13+AV13)/2 -> 97.025 | AV13: =Cal!S11 -> 98.55 | AW13: =AV13 -> 98.55 | AX13: =AW13+1.2 -> 99.75 | AY13: =AX13 -> 99.75 | AZ13: =AW13 -> 98.55 | BA13: =AZ13 -> 98.55 | BB13: =Cal!H11 -> 16.681825
B14: =NGL_Data!A12 -> 0+075 | C14: =D14 -> 0 | D14: =E14 -> 0 | E14: =F14 -> 0 | F14: =G14 -> 0 | G14: =H14 -> 0 | H14: =I14 -> 0 | I14: =NGL_Data!J12 -> 0 | J14: =NGL_Data!K12 -> 0 | K14: =NGL_Data!L12 -> 0 | L14: =NGL_Data!M12 -> 0 | M14: =NGL_Data!N12 -> 0 | N14: =M14 -> 0 | O14: =N14 -> 0 | P14: =O14 -> 0 | Q14: =P14 -> 0 | R14: =Q14 -> 0 | S14: =R14 -> 0 | Y14: =Cal!$J12 -> 6 | Z14: =NGL_Data!$D$6 -> 5 | AA14: =Cal!$K12 -> 6 | AB14: =Cal!$L12 -> 0 | AC14: =Cal!$M12 -> 6 | AD14: =NGL_Data!$H$6 -> 5 | AE14: =Cal!$N12 -> 6 | AK14: =AL14 -> 0 | AL14: =AO14 -> 0 | AM14: =AN14 -> 1.2 | AN14: =AO14+1.2 -> 1.2 | AO14: =AP14 -> 0 | AP14: =Cal!O12 -> 0 | AQ14: =(AP14+AR14)/2 -> 0 | AR14: =Cal!P12 -> 0 | AS14: =Cal!Q12 -> 0 | AT14: =Cal!R12 -> 0 | AU14: =(AT14+AV14)/2 -> 0 | AV14: =Cal!S12 -> 0 | AW14: =AV14 -> 0 | AX14: =AW14+1.2 -> 1.2 | AY14: =AX14 -> 1.2 | AZ14: =AW14 -> 0 | BA14: =AZ14 -> 0 | BB14: =Cal!H12 -> 0
B15: =NGL_Data!A13 -> 0+100 | C15: =D15 -> 0 | D15: =E15 -> 0 | E15: =F15 -> 0 | F15: =G15 -> 0 | G15: =H15 -> 0 | H15: =I15 -> 0 | I15: =NGL_Data!J13 -> 0 | J15: =NGL_Data!K13 -> 0 | K15: =NGL_Data!L13 -> 0 | L15: =NGL_Data!M13 -> 0 | M15: =NGL_Data!N13 -> 0 | N15: =M15 -> 0 | O15: =N15 -> 0 | P15: =O15 -> 0 | Q15: =P15 -> 0 | R15: =Q15 -> 0 | S15: =R15 -> 0 | Y15: =Cal!$J13 -> 6 | Z15: =NGL_Data!$D$6 -> 5 | AA15: =Cal!$K13 -> 6 | AB15: =Cal!$L13 -> 0 | AC15: =Cal!$M13 -> 6 | AD15: =NGL_Data!$H$6 -> 5 | AE15: =Cal!$N13 -> 6 | AK15: =AL15 -> 0 | AL15: =AO15 -> 0 | AM15: =AN15 -> 1.2 | AN15: =AO15+1.2 -> 1.2 | AO15: =AP15 -> 0 | AP15: =Cal!O13 -> 0 | AQ15: =(AP15+AR15)/2 -> 0 | AR15: =Cal!P13 -> 0 | AS15: =Cal!Q13 -> 0 | AT15: =Cal!R13 -> 0 | AU15: =(AT15+AV15)/2 -> 0 | AV15: =Cal!S13 -> 0 | AW15: =AV15 -> 0 | AX15: =AW15+1.2 -> 1.2 | AY15: =AX15 -> 1.2 | AZ15: =AW15 -> 0 | BA15: =AZ15 -> 0 | BB15: =Cal!H13 -> 0
B16: =NGL_Data!A14 -> 0+125 | C16: =D16 -> 0 | D16: =E16 -> 0 | E16: =F16 -> 0 | F16: =G16 -> 0 | G16: =H16 -> 0 | H16: =I16 -> 0 | I16: =NGL_Data!J14 -> 0 | J16: =NGL_Data!K14 -> 0 | K16: =NGL_Data!L14 -> 0 | L16: =NGL_Data!M14 -> 0 | M16: =NGL_Data!N14 -> 0 | N16: =M16 -> 0 | O16: =N16 -> 0 | P16: =O16 -> 0 | Q16: =P16 -> 0 | R16: =Q16 -> 0 | S16: =R16 -> 0 | Y16: =Cal!$J14 -> 6 | Z16: =NGL_Data!$D$6 -> 5 | AA16: =Cal!$K14 -> 6 | AB16: =Cal!$L14 -> 0 | AC16: =Cal!$M14 -> 6 | AD16: =NGL_Data!$H$6 -> 5 | AE16: =Cal!$N14 -> 6 | AK16: =AL16 -> 0 | AL16: =AO16 -> 0 | AM16: =AN16 -> 1.2 | AN16: =AO16+1.2 -> 1.2 | AO16: =AP16 -> 0 | AP16: =Cal!O14 -> 0 | AQ16: =(AP16+AR16)/2 -> 0 | AR16: =Cal!P14 -> 0 | AS16: =Cal!Q14 -> 0 | AT16: =Cal!R14 -> 0 | AU16: =(AT16+AV16)/2 -> 0 | AV16: =Cal!S14 -> 0 | AW16: =AV16 -> 0 | AX16: =AW16+1.2 -> 1.2 | AY16: =AX16 -> 1.2 | AZ16: =AW16 -> 0 | BA16: =AZ16 -> 0 | BB16: =Cal!H14 -> 0
B17: =NGL_Data!A15 -> 0+150 | C17: =D17 -> 0 | D17: =E17 -> 0 | E17: =F17 -> 0 | F17: =G17 -> 0 | G17: =H17 -> 0 | H17: =I17 -> 0 | I17: =NGL_Data!J15 -> 0 | J17: =NGL_Data!K15 -> 0 | K17: =NGL_Data!L15 -> 0 | L17: =NGL_Data!M15 -> 0 | M17: =NGL_Data!N15 -> 0 | N17: =M17 -> 0 | O17: =N17 -> 0 | P17: =O17 -> 0 | Q17: =P17 -> 0 | R17: =Q17 -> 0 | S17: =R17 -> 0 | Y17: =Cal!$J15 -> 6 | Z17: =NGL_Data!$D$6 -> 5 | AA17: =Cal!$K15 -> 6 | AB17: =Cal!$L15 -> 0 | AC17: =Cal!$M15 -> 6 | AD17: =NGL_Data!$H$6 -> 5 | AE17: =Cal!$N15 -> 6 | AK17: =AL17 -> 0 | AL17: =AO17 -> 0 | AM17: =AN17 -> 1.2 | AN17: =AO17+1.2 -> 1.2 | AO17: =AP17 -> 0 | AP17: =Cal!O15 -> 0 | AQ17: =(AP17+AR17)/2 -> 0 | AR17: =Cal!P15 -> 0 | AS17: =Cal!Q15 -> 0 | AT17: =Cal!R15 -> 0 | AU17: =(AT17+AV17)/2 -> 0 | AV17: =Cal!S15 -> 0 | AW17: =AV17 -> 0 | AX17: =AW17+1.2 -> 1.2 | AY17: =AX17 -> 1.2 | AZ17: =AW17 -> 0 | BA17: =AZ17 -> 0 | BB17: =Cal!H15 -> 0
B18: =NGL_Data!A16 -> 0+175 | C18: =D18 -> 0 | D18: =E18 -> 0 | E18: =F18 -> 0 | F18: =G18 -> 0 | G18: =H18 -> 0 | H18: =I18 -> 0 | I18: =NGL_Data!J16 -> 0 | J18: =NGL_Data!K16 -> 0 | K18: =NGL_Data!L16 -> 0 | L18: =NGL_Data!M16 -> 0 | M18: =NGL_Data!N16 -> 0 | N18: =M18 -> 0 | O18: =N18 -> 0 | P18: =O18 -> 0 | Q18: =P18 -> 0 | R18: =Q18 -> 0 | S18: =R18 -> 0 | Y18: =Cal!$J16 -> 6 | Z18: =NGL_Data!$D$6 -> 5 | AA18: =Cal!$K16 -> 6 | AB18: =Cal!$L16 -> 0 | AC18: =Cal!$M16 -> 6 | AD18: =NGL_Data!$H$6 -> 5 | AE18: =Cal!$N16 -> 6 | AK18: =AL18 -> 0 | AL18: =AO18 -> 0 | AM18: =AN18 -> 1.2 | AN18: =AO18+1.2 -> 1.2 | AO18: =AP18 -> 0 | AP18: =Cal!O16 -> 0 | AQ18: =(AP18+AR18)/2 -> 0 | AR18: =Cal!P16 -> 0 | AS18: =Cal!Q16 -> 0 | AT18: =Cal!R16 -> 0 | AU18: =(AT18+AV18)/2 -> 0 | AV18: =Cal!S16 -> 0 | AW18: =AV18 -> 0 | AX18: =AW18+1.2 -> 1.2 | AY18: =AX18 -> 1.2 | AZ18: =AW18 -> 0 | BA18: =AZ18 -> 0 | BB18: =Cal!H16 -> 0
B19: =NGL_Data!A17 -> 0+200 | C19: =D19 -> 0 | D19: =E19 -> 0 | E19: =F19 -> 0 | F19: =G19 -> 0 | G19: =H19 -> 0 | H19: =I19 -> 0 | I19: =NGL_Data!J17 -> 0 | J19: =NGL_Data!K17 -> 0 | K19: =NGL_Data!L17 -> 0 | L19: =NGL_Data!M17 -> 0 | M19: =NGL_Data!N17 -> 0 | N19: =M19 -> 0 | O19: =N19 -> 0 | P19: =O19 -> 0 | Q19: =P19 -> 0 | R19: =Q19 -> 0 | S19: =R19 -> 0 | Y19: =Cal!$J17 -> 6 | Z19: =NGL_Data!$D$6 -> 5 | AA19: =Cal!$K17 -> 6 | AB19: =Cal!$L17 -> 0 | AC19: =Cal!$M17 -> 6 | AD19: =NGL_Data!$H$6 -> 5 | AE19: =Cal!$N17 -> 6 | AK19: =AL19 -> 0 | AL19: =AO19 -> 0 | AM19: =AN19 -> 1.2 | AN19: =AO19+1.2 -> 1.2 | AO19: =AP19 -> 0 | AP19: =Cal!O17 -> 0 | AQ19: =(AP19+AR19)/2 -> 0 | AR19: =Cal!P17 -> 0 | AS19: =Cal!Q17 -> 0 | AT19: =Cal!R17 -> 0 | AU19: =(AT19+AV19)/2 -> 0 | AV19: =Cal!S17 -> 0 | AW19: =AV19 -> 0 | AX19: =AW19+1.2 -> 1.2 | AY19: =AX19 -> 1.2 | AZ19: =AW19 -> 0 | BA19: =AZ19 -> 0 | BB19: =Cal!H17 -> 0
B20: =NGL_Data!A18 -> 0+225 | C20: =D20 -> 0 | D20: =E20 -> 0 | E20: =F20 -> 0 | F20: =G20 -> 0 | G20: =H20 -> 0 | H20: =I20 -> 0 | I20: =NGL_Data!J18 -> 0 | J20: =NGL_Data!K18 -> 0 | K20: =NGL_Data!L18 -> 0 | L20: =NGL_Data!M18 -> 0 | M20: =NGL_Data!N18 -> 0 | N20: =M20 -> 0 | O20: =N20 -> 0 | P20: =O20 -> 0 | Q20: =P20 -> 0 | R20: =Q20 -> 0 | S20: =R20 -> 0 | Y20: =Cal!$J18 -> 6 | Z20: =NGL_Data!$D$6 -> 5 | AA20: =Cal!$K18 -> 6 | AB20: =Cal!$L18 -> 0 | AC20: =Cal!$M18 -> 6 | AD20: =NGL_Data!$H$6 -> 5 | AE20: =Cal!$N18 -> 6 | AK20: =AL20 -> 0 | AL20: =AO20 -> 0 | AM20: =AN20 -> 1.2 | AN20: =AO20+1.2 -> 1.2 | AO20: =AP20 -> 0 | AP20: =Cal!O18 -> 0 | AQ20: =(AP20+AR20)/2 -> 0 | AR20: =Cal!P18 -> 0 | AS20: =Cal!Q18 -> 0 | AT20: =Cal!R18 -> 0 | AU20: =(AT20+AV20)/2 -> 0 | AV20: =Cal!S18 -> 0 | AW20: =AV20 -> 0 | AX20: =AW20+1.2 -> 1.2 | AY20: =AX20 -> 1.2 | AZ20: =AW20 -> 0 | BA20: =AZ20 -> 0 | BB20: =Cal!H18 -> 0
B21: =NGL_Data!A19 -> 0+250 | C21: =D21 -> 0 | D21: =E21 -> 0 | E21: =F21 -> 0 | F21: =G21 -> 0 | G21: =H21 -> 0 | H21: =I21 -> 0 | I21: =NGL_Data!J19 -> 0 | J21: =NGL_Data!K19 -> 0 | K21: =NGL_Data!L19 -> 0 | L21: =NGL_Data!M19 -> 0 | M21: =NGL_Data!N19 -> 0 | N21: =M21 -> 0 | O21: =N21 -> 0 | P21: =O21 -> 0 | Q21: =P21 -> 0 | R21: =Q21 -> 0 | S21: =R21 -> 0 | Y21: =Cal!$J19 -> 6 | Z21: =NGL_Data!$D$6 -> 5 | AA21: =Cal!$K19 -> 6 | AB21: =Cal!$L19 -> 0 | AC21: =Cal!$M19 -> 6 | AD21: =NGL_Data!$H$6 -> 5 | AE21: =Cal!$N19 -> 6 | AK21: =AL21 -> 0 | AL21: =AO21 -> 0 | AM21: =AN21 -> 1.2 | AN21: =AO21+1.2 -> 1.2 | AO21: =AP21 -> 0 | AP21: =Cal!O19 -> 0 | AQ21: =(AP21+AR21)/2 -> 0 | AR21: =Cal!P19 -> 0 | AS21: =Cal!Q19 -> 0 | AT21: =Cal!R19 -> 0 | AU21: =(AT21+AV21)/2 -> 0 | AV21: =Cal!S19 -> 0 | AW21: =AV21 -> 0 | AX21: =AW21+1.2 -> 1.2 | AY21: =AX21 -> 1.2 | AZ21: =AW21 -> 0 | BA21: =AZ21 -> 0 | BB21: =Cal!H19 -> 0
... B152: =NGL_Data!A150 -> 3+525 | C152: =D152 -> 0 | D152: =E152 -> 0 | E152: =F152 -> 0 | F152: =G152 -> 0 | G152: =H152 -> 0 | H152: =I152 -> 0 | I152: =NGL_Data!J150 -> 0 | J152: =NGL_Data!K150 -> 0 | K152: =NGL_Data!L150 -> 0 | L152: =NGL_Data!M150 -> 0 | M152: =NGL_Data!N150 -> 0 | N152: =M152 -> 0 | O152: =N152 -> 0 | P152: =O152 -> 0 | Q152: =P152 -> 0 | R152: =Q152 -> 0 | S152: =R152 -> 0 | Y152: =Cal!$J150 -> 6 | Z152: =NGL_Data!$D$6 -> 5 | AA152: =Cal!$K150 -> 6 | AB152: =Cal!$L150 -> 0 | AC152: =Cal!$M150 -> 6 | AD152: =NGL_Data!$H$6 -> 5 | AE152: =Cal!$N150 -> 6 | AK152: =AL152 -> 0 | AL152: =AO152 -> 0 | AM152: =AN152 -> 1.2 | AN152: =AO152+1.2 -> 1.2 | AO152: =AP152 -> 0 | AP152: =Cal!O150 -> 0 | AQ152: =(AP152+AR152)/2 -> 0 | AR152: =Cal!P150 -> 0 | AS152: =Cal!Q150 -> 0 | AT152: =Cal!R150 -> 0 | AU152: =(AT152+AV152)/2 -> 0 | AV152: =Cal!S150 -> 0 | AW152: =AV152 -> 0 | AX152: =AW152+1.2 -> 1.2 | AY152: =AX152 -> 1.2 | AZ152: =AW152 -> 0 | BA152: =AZ152 -> 0 | BB152: =Cal!H150 -> 0

Sheet Cross_section
U2: CROSS SECTION
V4: ระดับดินเดิม NGL | AM4: ระดับก่อสร้าง
R5: การ Plot แบบ | U5: STA | V5: LT | AD5: CL | AE5: RT | AM5: Distance | BD5: Elev
R6: เลือก STA ที่ต้องการ Plot แบบ | V6: L8 | W6: L7 | X6: L6 | Y6: L5 | Z6: L4 | AA6: L3 | AB6: L2 | AC6: L1 | AE6: R1 | AF6: R2 | AG6: R3 | AH6: R4 | AI6: R5 | AJ6: R6 | AK6: R7 | AL6: R8 | AM6: L8 | AN6: L7 | AO6: L6 | AP6: L5 | AQ6: L4 | AR6: L3 | AS6: L2 | AT6: L1 | AU6: CL | AV6: R1 | AW6: R2 | AX6: R3 | AY6: R4 | AZ6: R5 | BA6: R6 | BB6: R7 | BC6: R8 | BD6: L8 | BE6: L7 | BF6: L6 | BG6: L5 | BH6: L4 | BI6: L3 | BJ6: L2 | BK6: L1 | BL6: CL | BM6: R1 | BN6: R2 | BO6: R3 | BP6: R4 | BQ6: R5 | BR6: R6 | BS6: R7 | BT6: R8
R7: STA หน้าตัดบน | S7: 0+025 | T7: ===>> | U7: =Cal_section!B7 -> 0+025 | V7: =Cal_section!C7 -> 98.55 | W7: =Cal_section!D7 -> 98.55 | X7: =Cal_section!E7 -> 98.55 | Y7: =Cal_section!F7 -> 98.55 | Z7: =Cal_section!G7 -> 98.55 | AA7: =Cal_section!H7 -> 98.55 | AB7: =Cal_section!I7 -> 98.55 | ... AL7: =Cal_section!S7 -> 98.53 | AR7: =Cal_section!Y7 -> 6.01 | AS7: =Cal_section!Z7 -> 5 | AT7: =Cal_section!AA7 -> 3.46 | AU7: =Cal_section!AB7 -> 0 | AV7: =Cal_section!AC7 -> 3.46 | AW7: =Cal_section!AD7 -> 5 | AX7: =Cal_section!AE7 -> 5.99 | BD7: =Cal_section!AK7 -> 98.55 | BE7: =Cal_section!AL7 -> 98.55 | BF7: =Cal_section!AM7 -> 99.75 | BG7: =Cal_section!AN7 -> 99.75 | BH7: =Cal_section!AO7 -> 98.55 | BI7: =Cal_section!AP7 -> 98.55 | BJ7: =Cal_section!AQ7 -> 97.275 | BK7: =Cal_section!AR7 -> 96 | ... BT7: =Cal_section!BA7 -> 98.53
R8: STA หน้าตัดล่าง | S8: 0+000 | T8: ===>> | U8: =Cal_section!B8 -> 0+000 | V8: =Cal_section!C8 -> 98.85 | W8: =Cal_section!D8 -> 98.85 | X8: =Cal_section!E8 -> 98.85 | Y8: =Cal_section!F8 -> 98.85 | Z8: =Cal_section!G8 -> 98.85 | AA8: =Cal_section!H8 -> 98.85 | AB8: =Cal_section!I8 -> 98.85 | ... AL8: =Cal_section!S8 -> 99.2 | AR8: =Cal_section!Y8 -> 5.825 | AS8: =Cal_section!Z8 -> 5 | AT8: =Cal_section!AA8 -> 1.975 | AU8: =Cal_section!AB8 -> 0 | AV8: =Cal_section!AC8 -> 1.975 | AW8: =Cal_section!AD8 -> 5 | AX8: =Cal_section!AE8 -> 6.175 | BD8: =Cal_section!AK8 -> 98.85 | BE8: =Cal_section!AL8 -> 98.85 | BF8: =Cal_section!AM8 -> 100.05 | BG8: =Cal_section!AN8 -> 100.05 | BH8: =Cal_section!AO8 -> 98.85 | BI8: =Cal_section!AP8 -> 98.85 | BJ8: =Cal_section!AQ8 -> 96.925 | BK8: =Cal_section!AR8 -> 95 | ... BT8: =Cal_section!BA8 -> 99.2
R9: จำนวนแบบ
N10: โครงการ | R10: แบบแผ่นที่ | S10: 1
N11: ขุดลอกคลองสาธารณะ | R11: จำนวนแผ่น | S11: 30
N12: ที่ตั้งโครงการ
N13: หมู่ที่ 2 บ้านหนองแวง ต.ไทรเดี่ยว
N14: เขียนแบบ
J15: Cut := | K15: =Cal_section!BB7 -> 12.04955 | L15: m2
N16: (นายรังสรรค์ เพ็ชรวิเศษ)
N17: ผู้ช่วยช่างโยธา
N18: สำรวจ/ตรวจ
N20: (นายนิธิพันธ์ ประเสริฐศรี)
N21: นายช่างโยธาชำนาญงาน
N22: เห็นชอบ
N24: (นายธราเทพ ทองเบ้า)
N25: ผู้อำนวยการกองช่าง
N26: เห็นชอบ
N30: อนุมัติ
J31: Cut := | K31: =Cal_section!BB8 -> 16.59925 | L31: m2
N34: มาตราส่วน | O34: Not to Scale
N35: แผ่นที่/จำนวน | O35: =S10&" /" -> 1 / | P35: =S11 -> 30

Sheet Section Area
A1: การหาพื้นที่หน้าตัด Cross Section โดยวิธี Five Level Section
A10: โดย | B10: B | C10: = | D10: Bed Width ความกว้างของก้นคลอง
B11: HC | C11: = | D11: ความลึกของดินที่จะต้องขุดที่แนวศูนย์กลาง
B12: HL | C12: = | D12: ความลึกของดินที่จะต้องขุดที่ด้านซ้ายของแนวศูนย์กลาง
B13: HR | C13: = | D13: ความลึกของดินที่จะต้องขุดที่ด้านขวาของแนวศูนย์กลาง
B14: S | C14: = | D14: Side Slope, แนวราบ S ต่อแนวตั้ง 1
B15: D | C15: = | D15: ระยะจากแนวศูนย์กลางไปยังจุดที่ต้องการทางด้านซ้ายหรือด้านขวา
B16: A | C16: = | D16: พื้นที่หน้าตัด
A18: STA | B18: B | C18: HL | D18: DL | E18: HC | F18: HR | G18: DR | H18: S | I18: A | J18: REMARK
A19: =Cal!A7 -> BM0 | B19: =Cal!B7 -> 0 | C19: =Cal!C7 -> 0 | D19: =Cal!D7 -> 0 | E19: =Cal!E7 -> 0 | F19: =Cal!F7 -> 0 | G19: =Cal!G7 -> 0 | H19: =NGL_Data!S3 -> 1 | I19: =Cal!H7 -> 0
A20: =Cal!A8 -> 0+000 | B20: =Cal!B8 -> 3.95 | C20: =Cal!C8 -> 2.03 | D20: =Cal!D8 -> 5.825 | E20: =Cal!E8 -> 2.05 | F20: =Cal!F8 -> 2.15 | G20: =Cal!G8 -> 6.175 | H20: =H19 -> 1 | I20: =Cal!H8 -> 16.59925
A21: =Cal!A9 -> 0+025 | B21: =Cal!B9 -> 6.92 | C21: =Cal!C9 -> 1.4 | D21: =Cal!D9 -> 6.01 | E21: =Cal!E9 -> 1.15 | F21: =Cal!F9 -> 1.29 | G21: =Cal!G9 -> 5.99 | H21: =H20 -> 1 | I21: =Cal!H9 -> 12.04955
A22: =Cal!A10 -> TP | B22: =Cal!B10 -> 12 | C22: =Cal!C10 -> 0 | D22: =Cal!D10 -> 6 | E22: =Cal!E10 -> 100.85 | F22: =Cal!F10 -> 0 | G22: =Cal!G10 -> 6 | H22: =H21 -> 1 | I22: =Cal!H10 -> 605.1
A23: =Cal!A11 -> 0+050 | B23: =Cal!B11 -> 5.83 | C23: =Cal!C11 -> 1.85 | D23: =Cal!D11 -> 6.035 | E23: =Cal!E11 -> 1.7 | F23: =Cal!F11 -> 2.06 | G23: =Cal!G11 -> 5.965 | H23: =H22 -> 1 | I23: =Cal!H11 -> 16.681825
A24: =Cal!A12 -> 0+075 | B24: =Cal!B12 -> 12 | C24: =Cal!C12 -> 0 | D24: =Cal!D12 -> 6 | E24: =Cal!E12 -> 0 | F24: =Cal!F12 -> 0 | G24: =Cal!G12 -> 6 | H24: =H23 -> 1 | I24: =Cal!H12 -> 0
A25: =Cal!A13 -> 0+100 | B25: =Cal!B13 -> 12 | C25: =Cal!C13 -> 0 | D25: =Cal!D13 -> 6 | E25: =Cal!E13 -> 0 | F25: =Cal!F13 -> 0 | G25: =Cal!G13 -> 6 | H25: =H24 -> 1 | I25: =Cal!H13 -> 0
A26: =Cal!A14 -> 0+125 | B26: =Cal!B14 -> 12 | C26: =Cal!C14 -> 0 | D26: =Cal!D14 -> 6 | E26: =Cal!E14 -> 0 | F26: =Cal!F14 -> 0 | G26: =Cal!G14 -> 6 | H26: =H25 -> 1 | I26: =Cal!H14 -> 0
A27: =Cal!A15 -> 0+150 | B27: =Cal!B15 -> 12 | C27: =Cal!C15 -> 0 | D27: =Cal!D15 -> 6 | E27: =Cal!E15 -> 0 | F27: =Cal!F15 -> 0 | G27: =Cal!G15 -> 6 | H27: =H26 -> 1 | I27: =Cal!H15 -> 0
A28: =Cal!A16 -> 0+175 | B28: =Cal!B16 -> 12 | C28: =Cal!C16 -> 0 | D28: =Cal!D16 -> 6 | E28: =Cal!E16 -> 0 | F28: =Cal!F16 -> 0 | G28: =Cal!G16 -> 6 | H28: =H27 -> 1 | I28: =Cal!H16 -> 0
A29: =Cal!A17 -> 0+200 | B29: =Cal!B17 -> 12 | C29: =Cal!C17 -> 0 | D29: =Cal!D17 -> 6 | E29: =Cal!E17 -> 0 | F29: =Cal!F17 -> 0 | G29: =Cal!G17 -> 6 | H29: =H28 -> 1 | I29: =Cal!H17 -> 0
A30: =Cal!A18 -> 0+225 | B30: =Cal!B18 -> 12 | C30: =Cal!C18 -> 0 | D30: =Cal!D18 -> 6 | E30: =Cal!E18 -> 0 | F30: =Cal!F18 -> 0 | G30: =Cal!G18 -> 6 | H30: =H29 -> 1 | I30: =Cal!H18 -> 0
A31: =Cal!A19 -> 0+250 | B31: =Cal!B19 -> 12 | C31: =Cal!C19 -> 0 | D31: =Cal!D19 -> 6 | E31: =Cal!E19 -> 0 | F31: =Cal!F19 -> 0 | G31: =Cal!G19 -> 6 | H31: =H30 -> 1 | I31: =Cal!H19 -> 0
... A162: =Cal!A150 -> 3+525 | B162: =Cal!B150 -> 12 | C162: =Cal!C150 -> 0 | D162: =Cal!D150 -> 6 | E162: =Cal!E150 -> 0 | F162: =Cal!F150 -> 0 | G162: =Cal!G150 -> 6 | H162: =H161 -> 1 | I162: =Cal!H150 -> 0

Sheet Volumn
A1: การคำนวณหาปริมาตรดินขุดโดยวิธี Prismoidal Formula
B2: สูตร Prismoidal Formula
B3: V | C3: = | D3: (A1+4A2+A3) x L/6
A4: เมื่อ | B4: V | C4: = | D4: ปริมาตรของดินขุด มีหน่วยเป็น ลบ.ม.
B5: A1 และ A3 | C5: = | D5: พื้นที่รูปตัดขวางของคลองที่จะขุด ตรงปลายทั้งสองข้างของช่วงคลองที่ตัดแบ่ง มีหน่วยเป็น ตร.ม.
B6: A2 | C6: = | D6: พื้นที่รูปตัดขวางของคลองที่จะขุด ตรงกลางช่วงคลอง มีหน่วยเป็น ตร.ม.
B7: L | C7: = | D7: ความยาวของช่วงคลองที่ตัดแบ่ง มีหน่วยเป็น ม.
A8: STA | B8: Area | C8: A1 | D8: 4A2 | E8: A3 | F8: L | G8: ปริมาตรดินขุด (V) | H8: REMARK
B9: m2 | C9: m2 | D9: m2 | E9: m2 | F9: m | G9: m3
A10: 0+000 | B10: =VLOOKUP($A10,'Section Area'!$A$19:$I$162,9) -> 16.59925 | C10: =B10 -> 16.59925 | D10: =B11*4 -> 48.1982 | E10: =B12 -> 12.04955 | F10: 0 | G10: =(C10+D10+E10)*F10/6 -> 0 | H10: A1
A11: 0+025 | B11: =VLOOKUP($A11,'Section Area'!$A$19:$I$162,9) -> 12.04955 | H11: A2
A12: 0+050 | B12: =VLOOKUP($A12,'Section Area'!$A$19:$I$162,9) -> 12.04955 | C12: =B12 -> 12.04955 | D12: =B13*4 -> 48.1982 | E12: =B14 -> 12.04955 | F12: 50 | G12: =(C12+D12+E12)*F12/6 -> 602.4775 | H12: A3,A1
A13: 0+075 | B13: =VLOOKUP($A13,'Section Area'!$A$19:$I$162,9) -> 12.04955 | H13: A2
A14: 0+100 | B14: =VLOOKUP($A14,'Section Area'!$A$19:$I$162,9) -> 12.04955 | C14: =B14 -> 12.04955 | D14: =B15*4 -> 48.1982 | E14: =B16 -> 0 | F14: 50 | G14: =(C14+D14+E14)*F14/6 -> 502.06458 | H14: A3,A1
A15: 0+125 | B15: =VLOOKUP($A15,'Section Area'!$A$19:$I$162,9) -> 12.04955 | H15: A2
A16: 0+150 | B16: =VLOOKUP($A16,'Section Area'!$A$19:$I$162,9) -> 0 | C16: =B16 -> 0 | D16: =B17*4 -> 0 | E16: =B18 -> 0 | F16: 50 | G16: =(C16+D16+E16)*F16/6 -> 0 | H16: A3,A1
A17: 0+175 | B17: =VLOOKUP($A17,'Section Area'!$A$19:$I$162,9) -> 0 | H17: A2
A18: 0+200 | B18: =VLOOKUP($A18,'Section Area'!$A$19:$I$162,9) -> 0 | C18: =B18 -> 0 | D18: =B19*4 -> 0 | E18: =B20 -> 0 | F18: 50 | G18: =(C18+D18+E18)*F18/6 -> 0 | H18: A3,A1
A19: 0+225 | B19: =VLOOKUP($A19,'Section Area'!$A$19:$I$162,9) -> 0 | H19: A2
A20: 0+250 | B20: =VLOOKUP($A20,'Section Area'!$A$19:$I$162,9) -> 0 | C20: =B20 -> 0 | D20: =B21*4 -> 0 | E20: =B22 -> 0 | F20: 50 | G20: =(C20+D20+E20)*F20/6 -> 0 | H20: A3,A1
A21: 0+275 | B21: =VLOOKUP($A21,'Section Area'!$A$19:$I$162,9) -> 0 | H21: A2
A22: 0+300 | B22: =VLOOKUP($A22,'Section Area'!$A$19:$I$162,9) -> 0 | C22: =B22 -> 0 | D22: =B23*4 -> 0 | E22: =B24 -> 0 | F22: 50 | G22: =(C22+D22+E22)*F22/6 -> 0 | H22: A3,A1
A23: 0+325 | B23: =VLOOKUP($A23,'Section Area'!$A$19:$I$162,9) -> 0 | H23: A2
A24: 0+350 | B24: =VLOOKUP($A24,'Section Area'!$A$19:$I$162,9) -> 0 | C24: =B24 -> 0 | D24: =B25*4 -> 0 | E24: =B26 -> 0 | F24: 50 | G24: =(C24+D24+E24)*F24/6 -> 0 | H24: A3,A1
A25: 0+375 | B25: =VLOOKUP($A25,'Section Area'!$A$19:$I$162,9) -> 0 | H25: A2
A26: 0+400 | B26: =VLOOKUP($A26,'Section Area'!$A$19:$I$162,9) -> 0 | C26: =B26 -> 0 | D26: =B27*4 -> 0 | E26: =B28 -> 0 | F26: 50 | G26: =(C26+D26+E26)*F26/6 -> 0 | H26: A3,A1
A27: 0+425 | B27: =VLOOKUP($A27,'Section Area'!$A$19:$I$162,9) -> 0 | H27: A2
A28: 0+450 | B28: =VLOOKUP($A28,'Section Area'!$A$19:$I$162,9) -> 0 | C28: =B28 -> 0 | D28: =B29*4 -> 0 | E28: =B30 -> 0 | F28: 50 | G28: =(C28+D28+E28)*F28/6 -> 0 | H28: A3,A1
A29: 0+475 | B29: =VLOOKUP($A29,'Section Area'!$A$19:$I$162,9) -> 0 | H29: A2
A30: 0+500 | B30: =VLOOKUP($A30,'Section Area'!$A$19:$I$162,9) -> 0 | C30: =B30 -> 0 | D30: =B31*4 -> 0 | E30: =B32 -> 0 | F30: 50 | G30: =(C30+D30+E30)*F30/6 -> 0 | H30: A3,A1
A31: 0+525 | B31: =VLOOKUP($A31,'Section Area'!$A$19:$I$162,9) -> 0 | H31: A2
A32: 0+550 | B32: =VLOOKUP($A32,'Section Area'!$A$19:$I$162,9) -> 0 | C32: =B32 -> 0 | D32: =B33*4 -> 0 | E32: =B34 -> 0 | F32: 50 | G32: =(C32+D32+E32)*F32/6 -> 0 | H32: A3,A1
A33: 0+575 | B33: =VLOOKUP($A33,'Section Area'!$A$19:$I$162,9) -> 0 | H33: A2
A34: 0+600 | B34: =VLOOKUP($A34,'Section Area'!$A$19:$I$162,9) -> 0 | C34: =B34 -> 0 | D34: =B35*4 -> 0 | E34: =B36 -> 0 | F34: 50 | G34: =(C34+D34+E34)*F34/6 -> 0 | H34: A3,A1
A35: 0+625 | B35: =VLOOKUP($A35,'Section Area'!$A$19:$I$162,9) -> 0 | H35: A2
A36: 0+650 | B36: =VLOOKUP($A36,'Section Area'!$A$19:$I$162,9) -> 0 | C36: =B36 -> 0 | D36: =B37*4 -> 0 | E36: =B38 -> 0 | F36: 50 | G36: =(C36+D36+E36)*F36/6 -> 0 | H36: A3,A1
A37: 0+675 | B37: =VLOOKUP($A37,'Section Area'!$A$19:$I$162,9) -> 0 | H37: A2
A38: 0+700 | B38: =VLOOKUP($A38,'Section Area'!$A$19:$I$162,9) -> 0 | C38: =B38 -> 0 | D38: =B39*4 -> 0 | E38: =B40 -> 0 | F38: 50 | G38: =(C38+D38+E38)*F38/6 -> 0 | H38: A3,A1
A39: 0+725 | B39: =VLOOKUP($A39,'Section Area'!$A$19:$I$162,9) -> 0 | H39: A2
A40: 0+750 | B40: =VLOOKUP($A40,'Section Area'!$A$19:$I$162,9) -> 0 | C40: =B40 -> 0 | D40: =B41*4 -> 0 | E40: =B42 -> 0 | F40: 50 | G40: =(C40+D40+E40)*F40/6 -> 0 | H40: A3,A1
A41: 0+775 | B41: =VLOOKUP($A41,'Section Area'!$A$19:$I$162,9) -> 0 | H41: A2
A42: 0+800 | B42: =VLOOKUP($A42,'Section Area'!$A$19:$I$162,9) -> 0 | C42: =B42 -> 0 | D42: =B43*4 -> 0 | E42: =B44 -> 0 | F42: 50 | G42: =(C42+D42+E42)*F42/6 -> 0 | H42: A3,A1
A43: 0+825 | B43: =VLOOKUP($A43,'Section Area'!$A$19:$I$162,9) -> 0 | H43: A2
A44: 0+850 | B44: =VLOOKUP($A44,'Section Area'!$A$19:$I$162,9) -> 0 | C44: =B44 -> 0 | D44: =B45*4 -> 0 | E44: =B46 -> 0 | F44: 50 | G44: =(C44+D44+E44)*F44/6 -> 0 | H44: A3,A1
A45: 0+875 | B45: =VLOOKUP($A45,'Section Area'!$A$19:$I$162,9) -> 0 | H45: A2
A46: 0+900 | B46: =VLOOKUP($A46,'Section Area'!$A$19:$I$162,9) -> 0 | C46: =B46 -> 0 | D46: =B47*4 -> 0 | E46: =B48 -> 0 | F46: 50 | G46: =(C46+D46+E46)*F46/6 -> 0 | H46: A3,A1
A47: 0+925 | B47: =VLOOKUP($A47,'Section Area'!$A$19:$I$162,9) -> 0 | H47: A2
A48: 0+950 | B48: =VLOOKUP($A48,'Section Area'!$A$19:$I$162,9) -> 0 | C48: =B48 -> 0 | D48: =B49*4 -> 0 | E48: =B50 -> 0 | F48: 50 | G48: =(C48+D48+E48)*F48/6 -> 0 | H48: A3,A1
A49: 0+975 | B49: =VLOOKUP($A49,'Section Area'!$A$19:$I$162,9) -> 0 | H49: A2
A50: 1+000 | B50: =VLOOKUP($A50,'Section Area'!$A$19:$I$162,9) -> 0 | C50: =B50 -> 0 | D50: =B51*4 -> 0 | E50: =B52 -> 0 | F50: 50 | G50: =(C50+D50+E50)*F50/6 -> 0 | H50: A3,A1
A51: 1+025 | B51: =VLOOKUP($A51,'Section Area'!$A$19:$I$162,9) -> 0 | H51: A2
A52: 1+050 | B52: =VLOOKUP($A52,'Section Area'!$A$19:$I$162,9) -> 0 | C52: =B52 -> 0 | D52: =B53*4 -> 0 | E52: =B54 -> 0 | F52: 50 | G52: =(C52+D52+E52)*F52/6 -> 0 | H52: A3,A1
A53: 1+075 | B53: =VLOOKUP($A53,'Section Area'!$A$19:$I$162,9) -> 0 | H53: A2
A54: 1+100 | B54: =VLOOKUP($A54,'Section Area'!$A$19:$I$162,9) -> 0 | C54: =B54 -> 0 | D54: =B55*4 -> 0 | E54: =B56 -> 0 | F54: 50 | G54: =(C54+D54+E54)*F54/6 -> 0 | H54: A3,A1
A55: 1+125 | B55: =VLOOKUP($A55,'Section Area'!$A$19:$I$162,9) -> 0 | H55: A2
A56: 1+150 | B56: =VLOOKUP($A56,'Section Area'!$A$19:$I$162,9) -> 0 | C56: =B56 -> 0 | D56: =B57*4 -> 0 | E56: =B58 -> 0 | F56: 50 | G56: =(C56+D56+E56)*F56/6 -> 0 | H56: A3,A1
A57: 1+175 | B57: =VLOOKUP($A57,'Section Area'!$A$19:$I$162,9) -> 0 | H57: A2
A58: 1+200 | B58: =VLOOKUP($A58,'Section Area'!$A$19:$I$162,9) -> 0 | C58: =B58 -> 0 | D58: =B59*4 -> 0 | E58: =B60 -> 0 | F58: 50 | G58: =(C58+D58+E58)*F58/6 -> 0 | H58: A3,A1
A59: 1+225 | B59: =VLOOKUP($A59,'Section Area'!$A$19:$I$162,9) -> 0 | H59: A2
A60: 1+250 | B60: =VLOOKUP($A60,'Section Area'!$A$19:$I$162,9) -> 0 | C60: =B60 -> 0 | D60: =B61*4 -> 0 | E60: =B62 -> 0 | F60: 50 | G60: =(C60+D60+E60)*F60/6 -> 0 | H60: A3,A1
A61: 1+275 | B61: =VLOOKUP($A61,'Section Area'!$A$19:$I$162,9) -> 0 | H61: A2
A62: 1+300 | B62: =VLOOKUP($A62,'Section Area'!$A$19:$I$162,9) -> 0 | C62: =B62 -> 0 | D62: =B63*4 -> 0 | E62: =B64 -> 0 | F62: 50 | G62: =(C62+D62+E62)*F62/6 -> 0 | H62: A3,A1
A63: 1+325 | B63: =VLOOKUP($A63,'Section Area'!$A$19:$I$162,9) -> 0 | H63: A2
A64: 1+350 | B64: =VLOOKUP($A64,'Section Area'!$A$19:$I$162,9) -> 0 | C64: =B64 -> 0 | D64: =B65*4 -> 0 | E64: =B66 -> 0 | F64: 50 | G64: =(C64+D64+E64)*F64/6 -> 0 | H64: A3,A1
A65: 1+375 | B65: =VLOOKUP($A65,'Section Area'!$A$19:$I$162,9) -> 0 | H65: A2
A66: 1+400 | B66: =VLOOKUP($A66,'Section Area'!$A$19:$I$162,9) -> 0 | C66: =B66 -> 0 | D66: =B67*4 -> 0 | E66: =B68 -> 0 | F66: 50 | G66: =(C66+D66+E66)*F66/6 -> 0 | H66: A3,A1
A67: 1+425 | B67: =VLOOKUP($A67,'Section Area'!$A$19:$I$162,9) -> 0 | H67: A2
A68: 1+450 | B68: =VLOOKUP($A68,'Section Area'!$A$19:$I$162,9) -> 0 | C68: =B68 -> 0 | D68: =B69*4 -> 0 | E68: =B70 -> 0 | F68: 50 | G68: =(C68+D68+E68)*F68/6 -> 0 | H68: A3,A1
A69: 1+475 | B69: =VLOOKUP($A69,'Section Area'!$A$19:$I$162,9) -> 0 | H69: A2
A70: 1+500 | B70: =VLOOKUP($A70,'Section Area'!$A$19:$I$162,9) -> 0 | C70: =B70 -> 0 | D70: =B71*4 -> 0 | E70: =B72 -> 0 | F70: 50 | G70: =(C70+D70+E70)*F70/6 -> 0 | H70: A3,A1
A71: 1+525 | B71: =VLOOKUP($A71,'Section Area'!$A$19:$I$162,9) -> 0 | H71: A2
A72: 1+550 | B72: =VLOOKUP($A72,'Section Area'!$A$19:$I$162,9) -> 0 | C72: =B72 -> 0 | D72: =B73*4 -> 0 | E72: =B74 -> 0 | F72: 50 | G72: =(C72+D72+E72)*F72/6 -> 0 | H72: A3,A1
A73: 1+575 | B73: =VLOOKUP($A73,'Section Area'!$A$19:$I$162,9) -> 0 | H73: A2
A74: 1+600 | B74: =VLOOKUP($A74,'Section Area'!$A$19:$I$162,9) -> 0 | C74: =B74 -> 0 | D74: =B75*4 -> 0 | E74: =B76 -> 0 | F74: 50 | G74: =(C74+D74+E74)*F74/6 -> 0 | H74: A3,A1
A75: 1+625 | B75: =VLOOKUP($A75,'Section Area'!$A$19:$I$162,9) -> 0 | H75: A2
A76: 1+650 | B76: =VLOOKUP($A76,'Section Area'!$A$19:$I$162,9) -> 0 | C76: =B76 -> 0 | D76: =B77*4 -> 0 | E76: =B78 -> 0 | F76: 50 | G76: =(C76+D76+E76)*F76/6 -> 0 | H76: A3,A1
A77: 1+675 | B77: =VLOOKUP($A77,'Section Area'!$A$19:$I$162,9) -> 0 | H77: A2
A78: 1+700 | B78: =VLOOKUP($A78,'Section Area'!$A$19:$I$162,9) -> 0 | C78: =B78 -> 0 | D78: =B79*4 -> 0 | E78: =B80 -> 0 | F78: 50 | G78: =(C78+D78+E78)*F78/6 -> 0 | H78: A3,A1
A79: 1+725 | B79: =VLOOKUP($A79,'Section Area'!$A$19:$I$162,9) -> 0 | H79: A2
A80: 1+750 | B80: =VLOOKUP($A80,'Section Area'!$A$19:$I$162,9) -> 0 | C80: =B80 -> 0 | D80: =B81*4 -> 0 | E80: =B82 -> 0 | F80: 50 | G80: =(C80+D80+E80)*F80/6 -> 0 | H80: A3,A1
A81: 1+775 | B81: =VLOOKUP($A81,'Section Area'!$A$19:$I$162,9) -> 0 | H81: A2
A82: 1+800 | B82: =VLOOKUP($A82,'Section Area'!$A$19:$I$162,9) -> 0 | C82: =B82 -> 0 | D82: =B83*4 -> 0 | E82: =B84 -> 0 | F82: 50 | G82: =(C82+D82+E82)*F82/6 -> 0 | H82: A3,A1
A83: 1+825 | B83: =VLOOKUP($A83,'Section Area'!$A$19:$I$162,9) -> 0 | H83: A2
A84: 1+850 | B84: =VLOOKUP($A84,'Section Area'!$A$19:$I$162,9) -> 0 | C84: =B84 -> 0 | D84: =B85*4 -> 0 | E84: =B86 -> 0 | F84: 50 | G84: =(C84+D84+E84)*F84/6 -> 0 | H84: A3,A1
A85: 1+875 | B85: =VLOOKUP($A85,'Section Area'!$A$19:$I$162,9) -> 0 | H85: A2
A86: 1+900 | B86: =VLOOKUP($A86,'Section Area'!$A$19:$I$162,9) -> 0 | C86: =B86 -> 0 | D86: =B87*4 -> 0 | E86: =B88 -> 0 | F86: 50 | G86: =(C86+D86+E86)*F86/6 -> 0 | H86: A3,A1
A87: 1+925 | B87: =VLOOKUP($A87,'Section Area'!$A$19:$I$162,9) -> 0 | H87: A2
A88: 1+950 | B88: =VLOOKUP($A88,'Section Area'!$A$19:$I$162,9) -> 0 | C88: =B88 -> 0 | D88: =B89*4 -> 0 | E88: =B90 -> 0 | F88: 50 | G88: =(C88+D88+E88)*F88/6 -> 0 | H88: A3,A1
A89: 1+975 | B89: =VLOOKUP($A89,'Section Area'!$A$19:$I$162,9) -> 0 | H89: A2
A90: 2+000 | B90: =VLOOKUP($A90,'Section Area'!$A$19:$I$162,9) -> 0 | C90: =B90 -> 0 | D90: =B91*4 -> 0 | E90: =B92 -> 0 | F90: 50 | G90: =(C90+D90+E90)*F90/6 -> 0 | H90: A3,A1
A91: 2+025 | B91: =VLOOKUP($A91,'Section Area'!$A$19:$I$162,9) -> 0 | H91: A2
A92: 2+050 | B92: =VLOOKUP($A92,'Section Area'!$A$19:$I$162,9) -> 0 | C92: =B92 -> 0 | D92: =B93*4 -> 0 | E92: =B94 -> 0 | F92: 50 | G92: =(C92+D92+E92)*F92/6 -> 0 | H92: A3,A1
A93: 2+075 | B93: =VLOOKUP($A93,'Section Area'!$A$19:$I$162,9) -> 0 | H93: A2
A94: 2+100 | B94: =VLOOKUP($A94,'Section Area'!$A$19:$I$162,9) -> 0 | C94: =B94 -> 0 | D94: =B95*4 -> 0 | E94: =B96 -> 0 | F94: 50 | G94: =(C94+D94+E94)*F94/6 -> 0 | H94: A3,A1
A95: 2+125 | B95: =VLOOKUP($A95,'Section Area'!$A$19:$I$162,9) -> 0 | H95: A2
A96: 2+150 | B96: =VLOOKUP($A96,'Section Area'!$A$19:$I$162,9) -> 0 | C96: =B96 -> 0 | D96: =B97*4 -> 0 | E96: =B98 -> 0 | F96: 50 | G96: =(C96+D96+E96)*F96/6 -> 0 | H96: A3,A1
A97: 2+175 | B97: =VLOOKUP($A97,'Section Area'!$A$19:$I$162,9) -> 0 | H97: A2
A98: 2+200 | B98: =VLOOKUP($A98,'Section Area'!$A$19:$I$162,9) -> 0 | C98: =B98 -> 0 | D98: =B99*4 -> 0 | E98: =B100 -> 0 | F98: 50 | G98: =(C98+D98+E98)*F98/6 -> 0 | H98: A3,A1
A99: 2+225 | B99: =VLOOKUP($A99,'Section Area'!$A$19:$I$162,9) -> 0 | H99: A2
A100: 2+250 | B100: =VLOOKUP($A100,'Section Area'!$A$19:$I$162,9) -> 0 | C100: =B100 -> 0 | D100: =B101*4 -> 0 | E100: =B102 -> 0 | F100: 50 | G100: =(C100+D100+E100)*F100/6 -> 0 | H100: A3,A1
...
