Workbook

Sheet ปก
A8: เอกสารการประมาณราคา
A9: ปีงบประมาณ 2558
A10: บ้านปรางค์นคร หมู่ที่ 14 ตำบลบ้านปรางค์ อำเภอคง จังหวัดนครราชสีมา
A13: ชื่อโครงการก่อสร้าง
A14: ก่อสร้างฝายน้ำล้น ค.ส.ล. (ชนิดรถยนต์ผ่านได้)
A18: ปริมาณงานก่อสร้าง
A19: ขนาดสันฝายกว้าง 4.00 ม. ยาว 20.00 ม. สูง 2.00 ม.
D21: ='[1]3. ปร.4 '!M2 -> แบบก่อสร้างเลขที่ | F21: ='[1]3. ปร.4 '!N2 -> 0
A23: งบประมาณดำเนินการ
D24: จำนวน | E24: =ปร.5!G20 -> 599000 | H24: บาท
C25: ตัวอักษร ( | D25: =BAHTTEXT(E24) -> ห้าแสนเก้าหมื่นเก้าพันบาทถ้วน | I25: )
A27: กองช่างองค์การบริหารส่วนตำบลบ้านปรางค์
A28: อำเภอคง จังหวัดนครราชสีมา
D29: สำหรับการดำเนินมาตรการส่งเสริมความเป็นอยู่ระดับตำบล (ตำบลละ 5 ล้านบาท)

Sheet ปร.4
A1: ใบประมาณราคาค่างานก่อสร้าง
A2: ชื่อโครงการก่อสร้าง | C2: =ปก!A14 -> ก่อสร้างฝายน้ำล้น ค.ส.ล. (ชนิดรถยนต์ผ่านได้) | M2: แบบก่อสร้างเลขที่
A3: ปริมาณงานก่อสร้าง | C3: =ปก!A19 -> ขนาดสันฝายกว้าง 4.00 ม. ยาว 20.00 ม. สูง 2.00 ม. | M3: แบบ ปร.4 | N3: แผ่นที่ 1 / 1
A4: สถานที่ดำเนินการ | C4: =ปก!A10 -> บ้านปรางค์นคร หมู่ที่ 14 ตำบลบ้านปรางค์ อำเภอคง จังหวัดนครราชสีมา | M4: ประมาณราคาเมื่อ | N4: 42377
A6: ลำดับ | B6: รายการ | G6: จำนวน | H6: หน่วย | I6: ค่าวัสดุสิ่งของ ( บาท ) | K6: ค่าแรงงาน ( บาท ) | M6: ค่าวัสคุ+ค่าแรง | N6: หมายเหตุ
I7: หน่วยละ | J7: จำนวนเงิน | K7: หน่วยละ | L7: จำนวนเงิน | M7: ( บาท )
B8: 1. งานดิน | N8: ที่มาราคาวัสดุ/ค่าแรง
A9: 1 | B9: งานดินถมสันฝาย | G9: 470 | H9: ลบ.ม. | I9: 80 | J9: =G9*I9 -> 37600 | K9: 0 | L9: =G9*K9 -> 0 | M9: =J9+L9 -> 37600 | N9: - ราคาเฉลี่ยวัสดุก่อสร้าง (เดือน ธ.ค.58)
A10: 2 | B10: ทรายหยาบรองพื้น | G10: 25 | H10: ลบ.ม. | I10: 406.54 | J10: =G10*I10 -> 10163.5 | K10: 0 | L10: =G10*K10 -> 0 | M10: =J10+L10 -> 10163.5 | N10: ( ไม่รวมภาษี )ของจังหวัดนครราชสีมา
A11: 3 | B11: 2. งานแบบหล่อ | I11: ='[1]C. ต้นทุน วัสดุคัดเลือก 1'!I98 -> 0 | J11: =G11*I11 -> 0 | K11: 0 | L11: =G11*K11 -> 0 | M11: =J11+L11 -> 0 | N11: - สำนักดัชนีเศรษฐกิจการค้า
B12: ไม้แบบ + คร่าว คิด 50 % | G12: 268.84 | H12: ตร.ม. | I12: 261 | J12: =G12*I12 -> 70167.24 | M12: =J12+L12 -> 70167.24
A13: 1 | B13: ตะปู | G13: 35 | H13: กก. | I13: 56.07 | J13: =G13*I13 -> 1962.45 | L13: =G13*K13 -> 0 | M13: =J13+L13 -> 1962.45 | N13: - ราคาท้องถิ่นของอำเภอคง
A14: 2 | B14: 3. งานคอนกรีต | J14: =G14*I14 -> 0 | L14: =G14*K14 -> 0 | M14: =J14+L14 -> 0 | N14: ค่าแรงงาน ดำเนินการ
A15: 3 | B15: คอนกรีตโครงสราง 1 : 2 : 4 | G15: 98 | H15: ลบ.ม. | I15: 1843.42 | J15: =G15*I15 -> 180655.16 | L15: =G15*K15 -> 0 | M15: =J15+L15 -> 180655.16 | N15: - ค่าแรงงาน ทั่วไป วันละ 300 บาท
A16: 4 | B16: 4. งานเหล็กเสริมคอนกรีต | J16: =G16*I16 -> 0 | L16: =G16*K16 -> 0 | M16: =J16+L16 -> 0 | N16: - ค่าแรงงานฝีมือ วันละ 500 บาท
A17: 5 | B17: เหล็กเส้นกลม dia. 9 มม. ยาวเส้นละ 10 ม. | G17: 5480 | H17: กก. | I17: 15.62 | J17: =G17*I17 -> 85597.6 | L17: =G17*K17 -> 0 | M17: =J17+L17 -> 85597.6 | N17: - ค่าผู้ควบคุมงาน วันละ 500 บาท
A18: 6 | B18: ลวดผูกเหล็ก No 18 | G18: 165 | H18: กก. | I18: 26.17 | J18: =G18*I18 -> 4318.05 | L18: =G18*K18 -> 0 | M18: =J18+L18 -> 4318.05
A19: 7 | B19: 5.งานเรียงหินยาแนว | J19: =G19*I19 -> 0 | L19: =G19*K19 -> 0 | M19: =J19+L19 -> 0
B20: หินใหญ่คละขนาด | G20: 28 | H20: ลบ.ม. | I20: 612.45 | J20: =G20*I20 -> 17148.6 | L20: =G20*K20 -> 0 | M20: =J20+L20 -> 17148.6
A21: 8 | B21: 6.งานทั่วไป | J21: =G21*I21 -> 0 | L21: =G21*K21 -> 0 | M21: =J21+L21 -> 0
B22: ท่อ PVC. ศก .1" ชั้น 8.5 | G22: 2 | H22: ท่อน | I22: 61 | J22: =G22*I22 -> 122 | L22: =G22*K22 -> 0 | M22: =J22+L22 -> 122
B23: รวมค่าวัสดุ | G23: 0 | H23: - | I23: - | J23: - | K23: - | L23: - | M23: =SUM(M9:M22) -> 407734.6
A24: 9 | B24: ค่าจ้างเหมาเครื่องจักรกลขุดแต่งคันฝาย พร้อมทั้งขุดแต่งลำห้วย ด้าน | H24: - | I24: - | J24: - | K24: - | L24: -
B25: หน้าและด้านท้ายฝาย (ราคาจ้างเหมาท้องถิ่นดฉลี่ย ชม. ละ 1,600 บาท) | G25: 1 | H25: เหมา | I25: 38400 | J25: =I25*G25 -> 38400 | K25: - | L25: - | M25: =SUM(J25:L25) -> 38400
B26: ค่าแรงงานก่อสร้าง คิด 30 % ของราคาวัสดุ | G26: 0 | H26: - | I26: - | J26: - | K26: - | L26: - | M26: =M23*0.3 -> 122320.38
B27: รวมค่าวัสดุ + ค่าแรงงาน ไม่รวมค่าจ้างเหมาเครื่องจักรกล | G27: 0 | H27: - | I27: - | J27: - | K27: - | L27: - | M27: =SUM(M26,M23) -> 530054.98
B28: รวมเป็นค่างานต้นทุนดำเนินการทั้งสิ้น | M28: =SUM(M27,M25) -> 568454.98
B30: ลงชื่อ................................ประมาณราคา | F30: ลงชื่อ.....................................ตรวจ | I30: ลงชื่อ.............................เห็นชอบ | L30: ลงชื่อ......................................อนุมัติ

Sheet ปร.5
A1: แบบสรุปประมาณราคาค่างานก่อสร้าง
A2: ส่วนราชการ อำเภอคง จังหวัดนครราชสีมา
A3: ชื่อโครงการก่อสร้าง | C3: =ปก!A14 -> ก่อสร้างฝายน้ำล้น ค.ส.ล. (ชนิดรถยนต์ผ่านได้) | J3: ปร.5
A4: ปริมาณงานก่อสร้าง | C4: =ปก!A19 -> ขนาดสันฝายกว้าง 4.00 ม. ยาว 20.00 ม. สูง 2.00 ม.
A5: สถานที่ก่อสร้าง | C5: =ปก!A10 -> บ้านปรางค์นคร หมู่ที่ 14 ตำบลบ้านปรางค์ อำเภอคง จังหวัดนครราชสีมา
A6: เจ้าของโครงการ | C6: =ปก!A10 -> บ้านปรางค์นคร หมู่ที่ 14 ตำบลบ้านปรางค์ อำเภอคง จังหวัดนครราชสีมา
A7: หน่วยงานออกแบบแปลนและรายการ | D7: =ปก!A27 -> กองช่างองค์การบริหารส่วนตำบลบ้านปรางค์
A8: แบบก่อสร้างเลขที่ | C8: ='[1]2. กรอกข้อมูล + รายการคำนวณถนน'!F23 -> 0
A9: ประมาณการตามใบประมาณราคา จำนวน | E9: ='[1]2. กรอกข้อมูล + รายการคำนวณถนน'!F24 -> 1 | F9: แผ่น เมื่อวันที่ | G9: =ปร.4!N4 -> 42377
A10: ลำดับที่ | B10: รายการ | F10: ค่าวัสดุ + ค่าแรงงาน | G10: Factor F | H10: ค่าก่อสร้างคิดค่า | I10: หมายเหตุ
F11: ( บาท ) | H11: Factor F
A12: 1 | B12: ประเภทงานอาคาร | F12: 0 | G12: 1.2726 | H12: =ROUND((F12*G12),2) -> 0 | I12: Factor F คิดจาก
A13: 2 | B13: ประเภทงานทาง | F13: 0 | G13: 1.3365 | H13: =ROUND((F13*G13),2) -> 0 | I13: - เงินล่วงหน้าจ่าย 0 %
A14: 3 | B14: ประเภทงานสะพานและท่อลอดเหลี่ยม | F14: 0 | G14: 1.2509 | H14: =ROUND((F14*G14),2) -> 0 | I14: - เงินประกันผลงานหัก 0 %
A15: 4 | B15: ประเภทงานชลประทาน | F15: 0 | G15: 1.3266 | H15: =ROUND((F15*G15),2) -> 0 | I15: - ดอกเบี้ยเงินกู้ 7 %
A16: 5 | B16: ประเภทงานจัดหาวัสดุก่อสร้าง | F16: =ปร.4!M23 -> 407734.6 | G16: 1.07 | H16: =ROUND((F16*G16),2) -> 436276.02 | I16: - ภาษีมูลค่าเพิ่ม 7 %
A17: 6 | B17: ค่าจ้าวงเหมาเครื่องจักรกล | F17: =ปร.4!M25 -> 38400 | G17: 1.07 | H17: =ROUND((F17*G17),2) -> 41088 | I17: 0
A18: 7 | B18: ค่าแรงงานก่อสร้าง คิด 30 % ของราคาวัสดุ | F18: =ปร.4!M26 -> 122320.38 | G18: 0 | H18: =F18 -> 122320.38
B19: รวมค่าก่อสร้างเป็นเงินทั้งสิ้น | F19: =SUM(F12:F18) -> 568454.98 | G19: 0 | H19: =SUM(H12:H18) -> 599684.4
A20: สรุป | B20: คิดเป็นเงินงบประมาณเพียง | G20: =ROUNDDOWN((H19),-3) -> 599000
B21: (ตัวอักษร) | C21: ="("&(BAHTTEXT(G20))&")" -> (ห้าแสนเก้าหมื่นเก้าพันบาทถ้วน)
B22: ขนาด หรือเนื้อที่โครงการ | F22: ตารางเมตร
B23: เฉลี่ยราคาประมาณ | F23: บาท / ตารางเมตร
A26: คณะกรรมการกำหนดราคากลาง ตามคำสั่ง อำเภอคง เลขที่ / ลงวันที่
A27: เรียน นายอำเภอคง
A28: - คณะกรรมการกำหนดราคากลางได้ตรวจสอบแล้วเห็นชอบกับค่าจ้างเหมาโครงการนี้และให้ยึดถือประมาณการนี้เป็นราคากลางจึงได้ลงลายมือไว้เป็นหลักฐาน
G31: ประธานกรรมการกำหนดราคากลาง
G34: กรรมการกำหนดราคากลาง
G37: กรรมการกำหนดราคากลาง
A38: ความเห็น / การพิจารณา
C40: - ได้ทำการตรวจสอบเอกสารและพิจารณาแล้ว | G40: [ ] อนุมัติให้ใช้ประมาณราคานี้
G41: [ ] ไม่อนุมัติเนื่องจาก .................................................
