Workbook

Sheet ปร.5    
F1: แบบ ปร.5 (ก)
A2: แบบสรุปค่าก่อสร้าง
A4: กลุ่มงาน/งาน งานก่อสร้างอาคาร
A5: ชื่อโครงการ/งานก่อสร้าง โครงการก่อสร้างอาคารฌาปนสถาน (เตาเดี่ยว 4.00 X 8.00 ม.)
A6: แบบเลขที่
A7: หน่วยงานเจ้าของโครงการ องค์การบริหารส่วนตำบลพราน
A8: แบบ ปร.4 ที่แนบ มีจำนวน 8 หน้า
A9: ประมาณราคาค่าก่อสร้างเมื่อวันที่ 14 เดือน สิงหาคม พ.ศ. 2557
F10: หน่วย : บาท
A11: ลำดับที่ | B11: รายการ | C11: ค่าวัสดุและแรงงาน | D11: FACTOR F | E11: รวมค่าก่อสร้าง | F11: หมายเหตุ
A14: 1 | B14: งาน / กลุ่มงานก่อสร้างอาคาร | C14: =สรุปเป็นค่างานต้นทุน!I26 -> 704059.3 | D14: 1.2726 | E14: =C14*D14 -> 895985.86
A15: 2 | B15: งาน / กลุ่มงาน..............................
A16: 3 | B16: งาน / กลุ่มงาน..............................
A17: 4 | B17: งาน / กลุ่มงาน..............................
B19: เงื่อนไขการใช้ตาราง Factor F
B20: ภาษีมูลค่าเพิ่ม......................7 %
B21: ดอกเบี้ยเงินกู้...................... 7 % | H21: +
B22: เงินล่วงหน้าจ่าย...................0%
B23: เงินประกันผลงานหัก..........0%
A24: สรุป | B24: รวมค่าก่อสร้างเป็นเงินทั้งสิ้น | E24: =SUM(E14:E23) -> 895985.86
B25: คิดเป็นเงินประมาณ | E25: =ROUNDDOWN(E24,-3) -> 895000
B26: (ตัวอักษร) | C26: ="("&BAHTTEXT(E25)&")" -> (แปดแสนเก้าหมื่นห้าพันบาทถ้วน)
B27: ขนาดหรือเนื้อที่อาคาร | C27: 32 | D27: ตารางเมตร
B28: ราคาเฉลี่ยประมาณ | C28: =E25/C27 -> 27968.75 | D28: บาท / ตารางเมตร
B32: (ลงชื่อ) | C32: ..............................................
C33: (นายพิจิตร สุขศรี)
C34: ผู้ประมาณราคา

Sheet สรุปเป็นค่างานต้นทุน
J1: แบบ ปร.4 แผ่นที่ 1 / 8
A2: แบบแสดงรายการ ปริมาณงาน และราคา
A3: ='ปร.5 '!A4 -> กลุ่มงาน/งาน งานก่อสร้างอาคาร
A4: ='ปร.5 '!A5 -> ชื่อโครงการ/งานก่อสร้าง โครงการก่อสร้างอาคารฌาปนสถาน (เตาเดี่ยว 4.00 X 8.00 ม.)
A5: สถานที่ก่อสร้าง หมู่ที่ 20 ตำบลพราน อำเภอขุนหาญ จังหวัดศรีสะเกษ | F5: ='ปร.5 '!A6 -> แบบเลขที่
A6: ='ปร.5 '!A7 -> หน่วยงานเจ้าของโครงการ องค์การบริหารส่วนตำบลพราน
A7: ประมาณราคาค่าก่อสร้างโดย นายพิจิตร สุขศรี | F7: เมื่อวันที่ 14 เดือน สิงหาคม พ.ศ. 2557
J8: หน่วย : บาท
A9: ที่ | B9: รายการ | C9: จำนวน | D9: หน่วย | E9: ค่าวัสดุ | G9: ค่าแรงงาน | I9: รวม | J9: หมายเหตุ
E10: ราคา/หน่วย | F10: จำนวนเงิน | G10: ราคา/หน่วย | H10: จำนวนเงิน | I10: ค่าวัสดุ+ค่าแรงงาน
B13: สรุปค่างานต้นทุนงานก่อสร้าง
B15: (1) งานโครงสร้างวิศวกรรม | I15: =งานโครงสร้างวิศวกรรม!I54 -> 384754.3
B16: (2) งานสถาปัตยกรรม | I16: =งานสถาปัตยกรรม!I81 -> 288685
B17: (3) งานระบบไฟฟ้าและสื่อสาร | I17: =งานระบบไฟฟ้าและสื่อสาร!I54 -> 30620
B26: รวมค่างานต้นทุนทั้งสิ้น | I26: =SUM(I14:I25) -> 704059.3

Sheet งานโครงสร้างวิศวกรรม
J1: แบบ ปร.4 แผ่นที่ 2 / 8
A2: =สรุปเป็นค่างานต้นทุน!A3 -> กลุ่มงาน/งาน งานก่อสร้างอาคาร
A3: =สรุปเป็นค่างานต้นทุน!A4 -> ชื่อโครงการ/งานก่อสร้าง โครงการก่อสร้างอาคารฌาปนสถาน (เตาเดี่ยว 4.00 X 8.00 ม.)
A4: =สรุปเป็นค่างานต้นทุน!A5 -> สถานที่ก่อสร้าง หมู่ที่ 20 ตำบลพราน อำเภอขุนหาญ จังหวัดศรีสะเกษ | F4: =สรุปเป็นค่างานต้นทุน!F5 -> แบบเลขที่
A5: =สรุปเป็นค่างานต้นทุน!A6 -> หน่วยงานเจ้าของโครงการ องค์การบริหารส่วนตำบลพราน
A6: =สรุปเป็นค่างานต้นทุน!A7 -> ประมาณราคาค่าก่อสร้างโดย นายพิจิตร สุขศรี | F6: =สรุปเป็นค่างานต้นทุน!F7 -> เมื่อวันที่ 14 เดือน สิงหาคม พ.ศ. 2557
J7: หน่วย : บาท
A8: ที่ | B8: รายการ | C8: จำนวน | D8: หน่วย | E8: ค่าวัสดุ | G8: ค่าแรงงาน | I8: รวม | J8: หมายเหตุ
E9: ราคา/หน่วย | F9: จำนวนเงิน | G9: ราคา/หน่วย | H9: จำนวนเงิน | I9: ค่าวัสดุ+ค่าแรงงาน
A11: 1 | B11: งานโครงสร้างวิศวกรรม
B12: 1.1 งานดินขุดฐานรากและถมคืน | C12: 39.77 | D12: ลบ.ม. | E12: 0 | F12: =$C12*E12 -> 0 | G12: 99 | H12: =$C12*G12 -> 3937.23 | I12: =F12+H12 -> 3937.23
B13: 1.2 ทรายหยาบรองก้นฐานราก | C13: 2.04 | D13: ลบ.ม. | E13: 330 | F13: =$C13*E13 -> 673.2 | G13: 91 | H13: =$C13*G13 -> 185.64 | I13: =F13+H13 -> 858.84
B14: 1.3 คอนกรีตหยาบ 1 : 3 : 5 รองก้นฐานราก | C14: 1.02 | D14: ลบ.ม. | E14: 1546 | F14: =$C14*E14 -> 1576.92 | G14: 398 | H14: =$C14*G14 -> 405.96 | I14: =F14+H14 -> 1982.88
B15: 1.4 คอนกรีตโครงสร้าง ค.2 (fc 240 ksc.) | C15: 43 | D15: ลบ.ม. | E15: 1759 | F15: =$C15*E15 -> 75637 | G15: 498 | H15: =$C15*G15 -> 21414 | I15: =F15+H15 -> 97051
B16: 1.5 ไม้แบบหล่อคอนกรีต 50 % | C16: =C20*50% -> 185 | D16: ตร.ม. | E16: 380 | F16: =$C16*E16 -> 70300 | G16: 0 | H16: =$C16*G16 -> 0 | I16: =F16+H16 -> 70300
B17: 1.6 ไม้เคร่าคิด 30 % ของปริมาณไม้แบบ | C17: =C16*30% -> 55.5 | D17: ลบ.ฟ. | E17: 380 | F17: =$C17*E17 -> 21090 | G17: 0 | H17: =$C17*G17 -> 0 | I17: =F17+H17 -> 21090
B18: 1.7 ไม้ค้ำยัน | C18: 60 | D18: ต้น | E18: 35 | F18: =$C18*E18 -> 2100 | G18: 0 | H18: =$C18*G18 -> 0 | I18: =F18+H18 -> 2100
B19: 1.8 ตะปู | C19: =C20*0.25 -> 92.5 | D19: กก. | E19: 42.5 | F19: =$C19*E19 -> 3931.25 | G19: 0 | H19: =$C19*G19 -> 0 | I19: =F19+H19 -> 3931.25
B20: 1.9 ค่าแรงงานประกอบแบบ | C20: 370 | D20: ตร.ม. | E20: 0 | F20: =$C20*E20 -> 0 | G20: 115 | H20: =$C20*G20 -> 42550 | I20: =F20+H20 -> 42550
B21: 1.10 เหล็กเสริมคอนกรีต
B22: - RB 6 มม. | C22: 475.47 | D22: กก. | E22: 25.04 | F22: =$C22*E22 -> 11905.769 | G22: 2.8 | H22: =$C22*G22 -> 1331.316 | I22: =F22+H22 -> 13237.085
B23: - RB 9 มม. | C23: 897.61 | D23: กก. | E23: 21.4 | F23: =$C23*E23 -> 19208.854 | G23: 2.8 | H23: =$C23*G23 -> 2513.308 | I23: =F23+H23 -> 21722.162
B24: - DB 12 มม. | C24: 2185.19 | D24: กก. | E24: 22.97 | F24: =$C24*E24 -> 50193.814 | G24: 2.8 | H24: =$C24*G24 -> 6118.532 | I24: =F24+H24 -> 56312.346
B25: - DB 16 มม. | C25: 480.32 | D25: กก. | E25: 23.14 | F25: =$C25*E25 -> 11114.605 | G25: 2.8 | H25: =$C25*G25 -> 1344.896 | I25: =F25+H25 -> 12459.501
B26: 1.11 ลวดผูกเหล็ก | C26: =SUM(C22:C25)*0.03 -> 121.1577 | D26: กก. | E26: 41.25 | F26: =$C26*E26 -> 4997.7551 | G26: 0 | H26: =$C26*G26 -> 0 | I26: =F26+H26 -> 4997.7551
B27: ยอดยกไป | I27: =SUM(I12:I26) -> 352530.05
J28: แบบ ปร.4 แผ่นที่ 3 / 8
A29: =A2 -> กลุ่มงาน/งาน งานก่อสร้างอาคาร
A30: =A3 -> ชื่อโครงการ/งานก่อสร้าง โครงการก่อสร้างอาคารฌาปนสถาน (เตาเดี่ยว 4.00 X 8.00 ม.)
A31: =A4 -> สถานที่ก่อสร้าง หมู่ที่ 20 ตำบลพราน อำเภอขุนหาญ จังหวัดศรีสะเกษ | G31: =F4 -> แบบเลขที่
A32: =A5 -> หน่วยงานเจ้าของโครงการ องค์การบริหารส่วนตำบลพราน
A33: =A6 -> ประมาณราคาค่าก่อสร้างโดย นายพิจิตร สุขศรี | G33: =F6 -> เมื่อวันที่ 14 เดือน สิงหาคม พ.ศ. 2557
J34: =สรุปเป็นค่างานต้นทุน!J8 -> หน่วย : บาท
A35: ที่ | B35: รายการ | C35: จำนวน | D35: หน่วย | E35: ค่าวัสดุ | G35: ค่าแรงงาน | I35: รวม | J35: หมายเหตุ
E36: ราคา/หน่วย | F36: จำนวนเงิน | G36: ราคา/หน่วย | H36: จำนวนเงิน | I36: ค่าวัสดุ+ค่าแรงงาน
B37: ยอดยกมา | I37: =I27 -> 352530.05
B38: 1.12 งานทรายหยาบราดน้ำชุ่มอัดแน่น | C38: 4.75 | D38: ลบ.ม. | E38: 330 | F38: =$C38*E38 -> 1567.5 | G38: 91 | H38: =$C38*G38 -> 432.25 | I38: =F38+H38 -> 1999.75
B39: 1.13 งานโครงหลังคาเหล็ก | L39: นน./ท่อน | M39: นน.รวม
B40: - เหล็กรูปตัวซี ขนาด 100 X 50 X 20 X 3.2 มม. | C40: 13 | D40: ท่อน | E40: 815 | F40: =$C40*E40 -> 10595 | G40: 0 | H40: =$C40*G40 -> 0 | I40: =F40+H40 -> 10595 | L40: 42 | M40: =C40*L40 -> 546
B41: - เหล็กกล่อง ขนาด 1" X 1" หนา 1.6 มม. | C41: 45 | D41: ท่อน | E41: 175 | F41: =$C41*E41 -> 7875 | G41: 0 | H41: =$C41*G41 -> 0 | I41: =F41+H41 -> 7875 | L41: 31 | M41: =C41*L41 -> 1395
...

Sheet งานสถาปัตยกรรม
J1: แบบ ปร.4 แผ่นที่ 4 / 8
A2: =สรุปเป็นค่างานต้นทุน!A3 -> กลุ่มงาน/งาน งานก่อสร้างอาคาร
A3: =สรุปเป็นค่างานต้นทุน!A4 -> ชื่อโครงการ/งานก่อสร้าง โครงการก่อสร้างอาคารฌาปนสถาน (เตาเดี่ยว 4.00 X 8.00 ม.)
A4: =สรุปเป็นค่างานต้นทุน!A5 -> สถานที่ก่อสร้าง หมู่ที่ 20 ตำบลพราน อำเภอขุนหาญ จังหวัดศรีสะเกษ | F4: =สรุปเป็นค่างานต้นทุน!F5 -> แบบเลขที่
A5: =สรุปเป็นค่างานต้นทุน!A6 -> หน่วยงานเจ้าของโครงการ องค์การบริหารส่วนตำบลพราน
A6: =สรุปเป็นค่างานต้นทุน!A7 -> ประมาณราคาค่าก่อสร้างโดย นายพิจิตร สุขศรี | F6: =สรุปเป็นค่างานต้นทุน!F7 -> เมื่อวันที่ 14 เดือน สิงหาคม พ.ศ. 2557
J7: หน่วย : บาท
A8: ที่ | B8: รายการ | C8: จำนวน | D8: หน่วย | E8: ค่าวัสดุ | G8: ค่าแรงงาน | I8: รวม | J8: หมายเหตุ
E9: ราคา/หน่วย | F9: จำนวนเงิน | G9: ราคา/หน่วย | H9: จำนวนเงิน | I9: ค่าวัสดุ+ค่าแรงงาน
A10: 2 | B10: งานสถาปัตยกรรม
B11: 2.1 งานหลังคา
B12: - หลังคากระเบื้องคอนกรีต สีแดง | C12: =C13*11 -> 1155 | D12: แผ่น | E12: 12 | F12: =$C12*E12 -> 13860 | G12: 0 | H12: =$C12*G12 -> 0 | I12: =F12+H12 -> 13860
B13: - ค่าแรงมุงหลังคากระเบื้องคอนกรีต | C13: 105 | D13: ตร.ม. | E13: 0 | F13: =$C13*E13 -> 0 | G13: 27 | H13: =$C13*G13 -> 2835 | I13: =F13+H13 -> 2835
B14: 2.2 งานฝ้าเพดานและเพดาน
B15: - ฝ้าแผ่นไฟเบอร์ซีเมนต์บอร์ด หนา 6 มม. โครงเคร่าซีลาย | C15: 66 | D15: ตร.ม. | E15: 270 | F15: =$C15*E15 -> 17820 | G15: 0 | H15: =$C15*G15 -> 0 | I15: =F15+H15 -> 17820
B16: 2.3 งานผนังและตกแต่งผิวผนัง
B17: - ผนังก่ออิฐมอญครึ่งแผ่น | C17: 38 | D17: ตร.ม. | E17: 145 | F17: =$C17*E17 -> 5510 | G17: 65 | H17: =$C17*G17 -> 2470 | I17: =F17+H17 -> 7980
B18: - ผนังก่ออิฐมอญเต็มแผ่น | C18: 15 | D18: ตร.ม. | E18: 290 | F18: =$C18*E18 -> 4350 | G18: 144 | H18: =$C18*G18 -> 2160 | I18: =F18+H18 -> 6510
B19: - ผนังก่ออิฐช่องลม | C19: 15 | D19: ตร.ม. | E19: 165 | F19: =$C19*E19 -> 2475 | G19: 60 | H19: =$C19*G19 -> 900 | I19: =F19+H19 -> 3375
B20: - ผนังก่ออิฐทนไฟ หนา 20 ซม. | C20: 65 | D20: ตร.ม. | E20: 350 | F20: =$C20*E20 -> 22750 | G20: 130 | H20: =$C20*G20 -> 8450 | I20: =F20+H20 -> 31200
B21: - งานเสาเอ็น และเอ็นทับหลัง ค.ส.ล. | C21: 55 | D21: ม. | E21: 75 | F21: =$C21*E21 -> 4125 | G21: 0 | H21: =$C21*G21 -> 0 | I21: =F21+H21 -> 4125
B22: - งานผนังฉาบปูนเรียบ | C22: 76 | D22: ตร.ม. | E22: 40 | F22: =$C22*E22 -> 3040 | G22: 70 | H22: =$C22*G22 -> 5320 | I22: =F22+H22 -> 8360
B23: - งานโครงสร้างฉาบปูนเรียบ | C23: 35 | D23: ตร.ม. | E23: 45 | F23: =$C23*E23 -> 1575 | G23: 70 | H23: =$C23*G23 -> 2450 | I23: =F23+H23 -> 4025
B24: 2.4 งานพื้นและตกแต่งผิวพื้น
B25: - พื้นผิวหินขัด (สีเทาดำ) ฝังเส้นทองเหลือง | C25: 26 | D25: ตร.ม. | E25: 205 | F25: =$C25*E25 -> 5330 | G25: 153 | H25: =$C25*G25 -> 3978 | I25: =F25+H25 -> 9308
B26: - พื้นซีเมนต์ผิวขัดเรียบ | C26: 48 | D26: ตร.ม. | E26: 25 | F26: =$C26*E26 -> 1200 | G26: 15 | H26: =$C26*G26 -> 720 | I26: =F26+H26 -> 1920
B27: ยอดยกไป | I27: =SUM(I12:I26) -> 111318
J28: แบบ ปร.4 แผ่นที่ 5 / 8
A29: =A2 -> กลุ่มงาน/งาน งานก่อสร้างอาคาร
A30: =A3 -> ชื่อโครงการ/งานก่อสร้าง โครงการก่อสร้างอาคารฌาปนสถาน (เตาเดี่ยว 4.00 X 8.00 ม.)
A31: =A4 -> สถานที่ก่อสร้าง หมู่ที่ 20 ตำบลพราน อำเภอขุนหาญ จังหวัดศรีสะเกษ | F31: =F4 -> แบบเลขที่
A32: =A5 -> หน่วยงานเจ้าของโครงการ องค์การบริหารส่วนตำบลพราน
A33: =A6 -> ประมาณราคาค่าก่อสร้างโดย นายพิจิตร สุขศรี | F33: =F6 -> เมื่อวันที่ 14 เดือน สิงหาคม พ.ศ. 2557
J34: หน่วย : บาท
A35: ที่ | B35: รายการ | C35: จำนวน | D35: หน่วย | E35: ค่าวัสดุ | G35: ค่าแรงงาน | I35: รวม | J35: หมายเหตุ
E36: ราคา/หน่วย | F36: จำนวนเงิน | G36: ราคา/หน่วย | H36: จำนวนเงิน | I36: ค่าวัสดุ+ค่าแรงงาน
B37: ยอดยกมา | I37: =I27 -> 111318
B38: 2.5 งานประตู - หน้าต่างและช่องแสง
B39: - ประตู D1 | C39: 1 | D39: ชุด | E39: 1500 | F39: =$C39*E39 -> 1500 | G39: 0 | H39: =$C39*G39 -> 0 | I39: =F39+H39 -> 1500
B40: 2.6 งานบันได ตกแต่งผิวบันไดและราวบันได
...

Sheet งานระบบไฟฟ้าและสื่อสาร
J1: แบบ ปร.4 แผ่นที่ 7 / 8
A2: =สรุปเป็นค่างานต้นทุน!A3 -> กลุ่มงาน/งาน งานก่อสร้างอาคาร
A3: =สรุปเป็นค่างานต้นทุน!A4 -> ชื่อโครงการ/งานก่อสร้าง โครงการก่อสร้างอาคารฌาปนสถาน (เตาเดี่ยว 4.00 X 8.00 ม.)
A4: =สรุปเป็นค่างานต้นทุน!A5 -> สถานที่ก่อสร้าง หมู่ที่ 20 ตำบลพราน อำเภอขุนหาญ จังหวัดศรีสะเกษ | F4: =สรุปเป็นค่างานต้นทุน!F5 -> แบบเลขที่
A5: =สรุปเป็นค่างานต้นทุน!A6 -> หน่วยงานเจ้าของโครงการ องค์การบริหารส่วนตำบลพราน
A6: =สรุปเป็นค่างานต้นทุน!A7 -> ประมาณราคาค่าก่อสร้างโดย นายพิจิตร สุขศรี | F6: =สรุปเป็นค่างานต้นทุน!F7 -> เมื่อวันที่ 14 เดือน สิงหาคม พ.ศ. 2557
J7: หน่วย : บาท
A8: ที่ | B8: รายการ | C8: จำนวน | D8: หน่วย | E8: ค่าวัสดุ | G8: ค่าแรงงาน | I8: รวม | J8: หมายเหตุ
E9: ราคา/หน่วย | F9: จำนวนเงิน | G9: ราคา/หน่วย | H9: จำนวนเงิน | I9: ค่าวัสดุ+ค่าแรงงาน
A10: 4 | B10: งานระบบไฟฟ้าและสื่อสาร
B11: 4.1 สายไฟฟ้า
B12: - THW dia. 16 sq.mm. | C12: 160 | D12: ม. | E12: 38 | F12: =$C12*E12 -> 6080 | G12: 19 | H12: =$C12*G12 -> 3040 | I12: =F12+H12 -> 9120
B13: - VAF 2 x 4 sq.mm. | C13: 30 | D13: ม. | E13: 25 | F13: =$C13*E13 -> 750 | G13: 13 | H13: =$C13*G13 -> 390 | I13: =F13+H13 -> 1140
B14: - VAF 2 x 2.5 sq.mm. | C14: 35 | D14: ม. | E14: 14 | F14: =$C14*E14 -> 490 | G14: 12 | H14: =$C14*G14 -> 420 | I14: =F14+H14 -> 910
B15: - VAF 2 x 1.5 sq.mm. | C15: 105 | D15: ม. | E15: 9 | F15: =$C15*E15 -> 945 | G15: 11 | H15: =$C15*G15 -> 1155 | I15: =F15+H15 -> 2100
B16: 4.2 ดวงโคมไฟฟ้าและอุปกรณ์
B17: - ดวงโคมรีเฟ็กซ์สะท้อนแสง แบบติดฝังฝ้าเพดาน | C17: 0 | D17: ชุด | E17: 620 | F17: =$C17*E17 -> 0 | G17: 135 | H17: =$C17*G17 -> 0 | I17: =F17+H17 -> 0
B18: หลอด Fluorescent ขนาด 2 X 36 W.
B19: - ดวงโคมกล่องเหล็กเปลือย ชนิดติดเพดาน | C19: 2 | D19: ชุด | E19: 355 | F19: =$C19*E19 -> 710 | G19: 135 | H19: =$C19*G19 -> 270 | I19: =F19+H19 -> 980
B20: หลอด Fluorescent ขนาด 1 X 36 W.
B21: - ดวงโคมกล่องเหล็กเปลือย ชนิดติดเพดาน | C21: 10 | D21: ชุด | E21: 225 | F21: =$C21*E21 -> 2250 | G21: 115 | H21: =$C21*G21 -> 1150 | I21: =F21+H21 -> 3400
B22: หลอด Fluorescent ขนาด 1 X 18 W.
B23: - ดวงโคมดาวน์ไลท์ dia. 4 นิ้ว ชนิดฝังฝ้าเพดาน | C23: 0 | D23: ชุด | E23: 165 | F23: =$C23*E23 -> 0 | G23: 115 | H23: =$C23*G23 -> 0 | I23: =F23+H23 -> 0
B24: หลอด Compact Fluorescent ขนาด 15 W. (วอร์มไวท์)
B25: 4.3 แผงสวิทซ์ไฟฟ้า
B26: - แผงสวิตซ์อัตโนมัติ (3 เฟส) 12 ช่องวงจร + เมน 100 A. | C26: 1 | D26: ชุด | E26: 6500 | F26: =$C26*E26 -> 6500 | G26: 750 | H26: =$C26*G26 -> 750 | I26: =F26+H26 -> 7250
B27: รวมยอดยกไป | I27: =SUM(I11:I26) -> 24900
J28: แบบ ปร.4 แผ่นที่ 8 / 8
A29: =A2 -> กลุ่มงาน/งาน งานก่อสร้างอาคาร
A30: =A3 -> ชื่อโครงการ/งานก่อสร้าง โครงการก่อสร้างอาคารฌาปนสถาน (เตาเดี่ยว 4.00 X 8.00 ม.)
A31: =A4 -> สถานที่ก่อสร้าง หมู่ที่ 20 ตำบลพราน อำเภอขุนหาญ จังหวัดศรีสะเกษ | F31: =F4 -> แบบเลขที่
A32: =A5 -> หน่วยงานเจ้าของโครงการ องค์การบริหารส่วนตำบลพราน
A33: =A6 -> ประมาณราคาค่าก่อสร้างโดย นายพิจิตร สุขศรี | F33: =F6 -> เมื่อวันที่ 14 เดือน สิงหาคม พ.ศ. 2557
J34: หน่วย : บาท
A35: ที่ | B35: รายการ | C35: จำนวน | D35: หน่วย | E35: ค่าวัสดุ | G35: ค่าแรงงาน | I35: รวม | J35: หมายเหตุ
E36: ราคา/หน่วย | F36: จำนวนเงิน | G36: ราคา/หน่วย | H36: จำนวนเงิน | I36: ค่าวัสดุ+ค่าแรงงาน
B37: ยอดยกมา | I37: =I27 -> 24900
B38: 4.4 สวิทซ์และเต้ารับ
B39: - สวิทซ์เดี่ยว ขนาด 10 A. / 250 V. | C39: 10 | D39: ตัว | E39: 55 | F39: =$C39*E39 -> 550 | G39: 80 | H39: =$C39*G39 -> 800 | I39: =F39+H39 -> 1350
B40: - สวิทซ์ 2 ทาง ขนาด 10 A. / 250 V. | C40: 0 | D40: ตัว | E40: 95 | F40: =$C40*E40 -> 0 | G40: 90 | H40: =$C40*G40 -> 0 | I40: =F40+H40 -> 0
...
