Workbook

Sheet แผนเหล็ก
A1: ตารางการจัดทำแผนการใช้เหล็กที่ผลิตภายในประเทศ
A2: โครงการ
B3: รายการพัสดุหรือครุภัณฑ์ที่ใช้ในโครงการ
B4: แผนการใช้เหล็กที่ผลิตภายในประเทศ
B5: ="ปริมาณเหล็กทั้งโครงการ "&FIXED(D22,2)&" ตัน" -> ปริมาณเหล็กทั้งโครงการ 7.00 ตัน
A6: ลำดับ | B6: รายการ | C6: หน่วย | D6: ปริมาณ | E6: เหล็ก | F6: เหล็ก
E7: ในประเทศ | F7: ต่างประเทศ
A8: 1 | B8: เหล็กเส้นกลม | C8: ตัน | D8: 2 | E8: 2
A9: 2 | B9: เหล็กข้ออ้อย | C9: ตัน | D9: 3 | E9: 2 | F9: 1
A10: 3 | B10: เหล็กตัว C | C10: ตัน | D10: 2 | E10: 2
A22: รวม | D22: =SUM(D8:D21) -> 7 | E22: =SUM(E8:E21) -> 6 | F22: =SUM(F8:F21) -> 1
A23: อัตรา (ร้อยละ) | D23: =ROUND(E23+F23,2) -> 100 | E23: =ROUND(E22*100/$D$22,2) -> 85.71 | F23: =ROUND(F22*100/$D$22,2) -> 14.29
B25: (ลงชื่อ) (คู่สัญญาฝ่ายผู้รับจ้าง)
B26: ( )

Sheet แผนพัสดุ
A1: ตารางการจัดทำแผนการใช้พัสดุที่ผลิตภายในประเทศ
A2: โครงการ
B3: รายการพัสดุหรือครุภัณฑ์ที่ใช้ในโครงการ
B4: แผนการใช้พัสดุที่ผลิตภายในประเทศ
A5: ลำดับ | B5: รายการ | C5: หน่วย | D5: ปริมาณ | E5: ราคาต่อหน่วย | F5: เป็นเงิน | G5: พัสดุ | H5: พัสดุ
E6: (บาท) | F6: (รวม) | G6: ในประเทศ | H6: ต่างประเทศ
A7: 1 | B7: เหล็กเส้นกลม | C7: ตัน | D7: 2 | E7: 22530 | F7: =IF(D7="","",ROUND(D7*E7,2)) -> 45060 | G7: 45060
A8: 2 | B8: เหล็กข้ออ้อย | C8: ตัน | D8: 3 | E8: 23250 | F8: =IF(D8="","",ROUND(D8*E8,2)) -> 69750 | G8: 69750
A9: 3 | B9: เหล็กตัว C | C9: ตัน | D9: 2 | E9: 22563 | F9: =IF(D9="","",ROUND(D9*E9,2)) -> 45126 | G9: 45126
A10: 4 | B10: ปูนซีเมนต์ | C10: ตัน | D10: 1 | E10: 5890 | F10: =IF(D10="","",ROUND(D10*E10,2)) -> 5890 | G10: 3000 | H10: 2890
A11: 5 | B11: ไม้ 1 1/2" x 3" | C11: ลบ.ฟ. | D11: 10 | E11: 150 | F11: =IF(D11="","",ROUND(D11*E11,2)) -> 1500 | G11: 1500
A12: 6 | B12: กระเบื้อง | C12: แผ่น | D12: 120 | E12: 55 | F12: =IF(D12="","",ROUND(D12*E12,2)) -> 6600 | G12: 6600
F13: =IF(D13="","",ROUND(D13*E13,2))
F14: =IF(D14="","",ROUND(D14*E14,2))
F15: =IF(D15="","",ROUND(D15*E15,2))
F16: =IF(D16="","",ROUND(D16*E16,2))
F17: =IF(D17="","",ROUND(D17*E17,2))
F18: =IF(D18="","",ROUND(D18*E18,2))
F19: =IF(D19="","",ROUND(D19*E19,2))
F20: =IF(D20="","",ROUND(D20*E20,2))
A21: รวม | F21: =SUM(F7:F20) -> 173926 | G21: =SUM(G7:G20) -> 171036 | H21: =SUM(H7:H20) -> 2890
A22: อัตรา (ร้อยละ) | F22: =ROUND(F21*100/$F$21,2) -> 100 | G22: =ROUND(G21*100/$F$21,2) -> 98.34 | H22: =ROUND(H21*100/$F$21,2) -> 1.66
C24: (ลงชื่อ) | F24: (คู่สัญญาฝ่ายผู้รับจ้าง)
D25: ( )

Sheet รายงานกรรมการ
A1: ตารางรายงานผลการใช้พัสดุที่ผลิตภายในประเทศ
B3: การใช้พัสดุทั้งโครงการ
B4: รายการพัสดุทั้งโครงการ | E4: รายการ
B5: มูลค่าพัสดุทั้งโครงการ | D5: =แผนพัสดุ!F21 -> 173926 | E5: บาท
B7: มูลค่าการใช้พัสดุที่ผลิตในประเทศ
A8: รายการ | C8: หน่วย | E8: จำนวนเงิน | G8: อัตรา(ร้อยละ)
A9: มูลค่าพัสดุที่ผลิตภายในประเทศ | C9: บาท | E9: =แผนพัสดุ!G21 -> 171036 | G9: =ROUND(E9*100/D5,2) -> 98.34
A10: มูลค่าพัสดุที่ผลิตจากต่างประเทศ | C10: บาท | E10: =แผนพัสดุ!H21 -> 2890 | G10: =ROUND(E10*100/D5,2) -> 1.66
B12: ปริมาณการใช้เหล็กทั้งโครงการ
B13: ปริมาณการใช้เหล็กทั้งโครงการ | D13: =แผนเหล็ก!D22 -> 7 | E13: ตัน มูลค่าเหล็กทั้งโครงการ | H13: บาท
A14: รายการ | C14: หน่วย | E14: จำนวนเงิน | G14: อัตรา(ร้อยละ)
A15: ปริมาณการใช้เหล็ก | C15: ตัน | E15: =แผนเหล็ก!E22 -> 6 | G15: =ROUND(E15*100/D13,2) -> 85.71
B17: สรุป
B18: * | C18: เป็นไปตามกฎกระทรวงกำหนดพัสดุและวิธีการจัดซื้อจัดจ้างพัสดุที่รัฐต้องการส่งเสริม
C19: หรือสนับสนุน(ฉบับที่ 2) พ.ศ. 2563
C20: 1.ร้อยละ 60 พัสดุทั่วไป (มูลค่า)
C21: 2.ร้อยละ 90 เหล็ก (ปริมาณ)
B23: * | C23: ไม่เป็นไปตามกฎกระทรวงกำหนดพัสดุและวิธีการจัดซื้อจัดจ้างพัสดุที่รัฐต้องการส่งเสริม
C24: หรือสนับสนุน(ฉบับที่ 2) พ.ศ. 2563
C25: เหตุผล/ความจำเป็นที่หน่วยงานของรัฐไม่สามารถดำเนินการได้
C26: .............................................................................................................................................
C27: .............................................................................................................................................
C30: (ลงชื่อ) | F30: ประธานกรรมการตรวจรับพัสดุ
D31: (นายธราเทพ ทองเบ้า)
C33: (ลงชื่อ) | F33: กรรมการตรวจรับพัสดุ
D34: (นายธราเทพ ทองเบ้า)
C36: (ลงชื่อ) | F36: กรรมการตรวจรับพัสดุ
D37: (นายธราเทพ ทองเบ้า)
